BEGIN:VCALENDAR
VERSION:2.0
PRODID:-//Eventi - LazioInnova - ECPv6.3.6//NONSGML v1.0//EN
CALSCALE:GREGORIAN
METHOD:PUBLISH
X-WR-CALNAME:Eventi - LazioInnova
X-ORIGINAL-URL:https://www.lazioinnova.it/eventi
X-WR-CALDESC:Eventi per Eventi - LazioInnova
REFRESH-INTERVAL;VALUE=DURATION:PT1H
X-Robots-Tag:noindex
X-PUBLISHED-TTL:PT1H
BEGIN:VTIMEZONE
TZID:Europe/Rome
BEGIN:DAYLIGHT
TZOFFSETFROM:+0100
TZOFFSETTO:+0200
TZNAME:CEST
DTSTART:20260329T010000
END:DAYLIGHT
BEGIN:STANDARD
TZOFFSETFROM:+0200
TZOFFSETTO:+0100
TZNAME:CET
DTSTART:20261025T010000
END:STANDARD
END:VTIMEZONE
BEGIN:VEVENT
DTSTART;TZID=Europe/Rome:20260430T110000
DTEND;TZID=Europe/Rome:20260430T123000
DTSTAMP:20260421T095015
CREATED:20260420T145919Z
LAST-MODIFIED:20260420T145919Z
UID:41384-1777546800-1777552200@www.lazioinnova.it
SUMMARY:TT Lazio: webinar di presentazione per Roma 3
DESCRIPTION:Giovedì 30 aprile ore 11.00 su Teams\nLazio Innova prosegue gli incontri di presentazione con TTLazio incontrando dottorandi\, ricercatori\, professori e startup dell’Università Roma 3. \nLa sessione mira ad accompagnare i partecipanti nella candidatura al programma che chiuderà il prossimo 5 giugno. \nRegistrazioni online e programma completo QUI\nMaggiori informazioni su TT Lazio QUI
URL:https://www.lazioinnova.it/eventi/e/tt-lazio-webinar-di-presentazione-per-roma-3/
CATEGORIES:PR FESR Lazio 2021-2027,Webinar
ATTACH;FMTTYPE=image/jpeg:https://www.lazioinnova.it/eventi/app/uploads/2026/04/LI_TTL_Social_Newsletter.jpg
END:VEVENT
END:VCALENDAR