BEGIN:VCALENDAR
VERSION:2.0
PRODID:-//Eventi - LazioInnova - ECPv6.3.6//NONSGML v1.0//EN
CALSCALE:GREGORIAN
METHOD:PUBLISH
X-ORIGINAL-URL:https://www.lazioinnova.it/eventi
X-WR-CALDESC:Eventi per Eventi - LazioInnova
REFRESH-INTERVAL;VALUE=DURATION:PT1H
X-Robots-Tag:noindex
X-PUBLISHED-TTL:PT1H
BEGIN:VTIMEZONE
TZID:Europe/Rome
BEGIN:DAYLIGHT
TZOFFSETFROM:+0100
TZOFFSETTO:+0200
TZNAME:CEST
DTSTART:20240331T010000
END:DAYLIGHT
BEGIN:STANDARD
TZOFFSETFROM:+0200
TZOFFSETTO:+0100
TZNAME:CET
DTSTART:20241027T010000
END:STANDARD
END:VTIMEZONE
BEGIN:VEVENT
DTSTART;TZID=Europe/Rome:20240410T120000
DTEND;TZID=Europe/Rome:20240410T130000
DTSTAMP:20260422T160824
CREATED:20240329T133749Z
LAST-MODIFIED:20240329T133939Z
UID:10001771-1712750400-1712754000@www.lazioinnova.it
SUMMARY:Digital workshop “DUBAI\, Hub globale del business”
DESCRIPTION:Mercoledì 10 aprile alle ore 12.00\, su piattaforma TEAMS\, si svolgerà il Digital workshop  “DUBAI\, Hub globale del business” nel corso del quale\, rappresentanti della Dubai Chambers\, Ente emiratino che fornisce servizi per i processi di internazionalizzazione\, presenteranno gli strumenti e i servizi offerti dalla Camera\, per raggiungere nuovi mercati. \nPer maggiori informazioni e iscrizioni visitare la pagina dedicata
URL:https://www.lazioinnova.it/eventi/e/digital-workshop-dubai-hub-globale-del-business/
CATEGORIES:Digital workshop,Internazionalizzazione
ATTACH;FMTTYPE=image/png:https://www.lazioinnova.it/eventi/app/uploads/2024/03/DUBAIHUB-1024x576-1.png
END:VEVENT
END:VCALENDAR