BEGIN:VCALENDAR
VERSION:2.0
PRODID:-//Eventi - LazioInnova - ECPv6.3.6//NONSGML v1.0//EN
CALSCALE:GREGORIAN
METHOD:PUBLISH
X-WR-CALNAME:Eventi - LazioInnova
X-ORIGINAL-URL:https://www.lazioinnova.it/eventi
X-WR-CALDESC:Eventi per Eventi - LazioInnova
REFRESH-INTERVAL;VALUE=DURATION:PT1H
X-Robots-Tag:noindex
X-PUBLISHED-TTL:PT1H
BEGIN:VTIMEZONE
TZID:Europe/Rome
BEGIN:DAYLIGHT
TZOFFSETFROM:+0100
TZOFFSETTO:+0200
TZNAME:CEST
DTSTART:20240331T010000
END:DAYLIGHT
BEGIN:STANDARD
TZOFFSETFROM:+0200
TZOFFSETTO:+0100
TZNAME:CET
DTSTART:20241027T010000
END:STANDARD
END:VTIMEZONE
BEGIN:VEVENT
DTSTART;TZID=Europe/Rome:20240515T100000
DTEND;TZID=Europe/Rome:20240515T133000
DTSTAMP:20260423T072021
CREATED:20240423T100622Z
LAST-MODIFIED:20240423T100622Z
UID:10001797-1715767200-1715779800@www.lazioinnova.it
SUMMARY:Workshop Fusion 360
DESCRIPTION:Fusion 360\n \nWorkshop di modellazione 3d orientata alla stampa. \nIl workshop si svolgerà in presenza presso il FabLab Lazio sede di Viterbo\, Spazio Attivo Lazio Innova. \n  \nSi richiede di venire con un proprio PC portatile.
URL:https://www.lazioinnova.it/eventi/e/workshop-fusion-360/
LOCATION:Sala Consorzio industriale Frosinone\, Viale Giuseppe Mazzini\, 30\, Frosinone\, 03100
CATEGORIES:Workshop Fablab
ATTACH;FMTTYPE=image/png:https://www.lazioinnova.it/eventi/app/uploads/2021/03/fablab-1.png
END:VEVENT
BEGIN:VEVENT
DTSTART;TZID=Europe/Rome:20240515T150000
DTEND;TZID=Europe/Rome:20240515T170000
DTSTAMP:20260423T072021
CREATED:20240430T105048Z
LAST-MODIFIED:20240430T105048Z
UID:10001804-1715785200-1715792400@www.lazioinnova.it
SUMMARY:Workshop Taglio Laser e moda
DESCRIPTION:Nella prima parte del workshop vedremo l’utilizzo del taglio laser nella moda.\nCapiremo quali materiali si possono tagliare e incidere e inizieremo a sfruttare questa tecnologia nella progettazione di nuovi prodotti. \nAndremo poi a sviluppare un piccolo prototipo\, toccando con mano le potenzialità del macchinario utilizzato. \nIl workshop si svolgerà in presenza presso il FabLab Lazio sede di Zagarolo\, Spazio Attivo Lazio Innova. \n  \nSi richiede di venire con un proprio PC portatile.
URL:https://www.lazioinnova.it/eventi/e/workshop-taglio-laser-e-moda/
LOCATION:Spazio Attivo LOIC di Zagarolo\, P\,za della Indipendenza\, 18\, Zagarolo\, RM\, 00039\, Italia
CATEGORIES:Workshop Fablab
ATTACH;FMTTYPE=image/png:https://www.lazioinnova.it/eventi/app/uploads/2021/03/fablab-1.png
END:VEVENT
END:VCALENDAR