BEGIN:VCALENDAR
VERSION:2.0
PRODID:-//Eventi - LazioInnova - ECPv6.3.6//NONSGML v1.0//EN
CALSCALE:GREGORIAN
METHOD:PUBLISH
X-ORIGINAL-URL:https://www.lazioinnova.it/eventi
X-WR-CALDESC:Eventi per Eventi - LazioInnova
REFRESH-INTERVAL;VALUE=DURATION:PT1H
X-Robots-Tag:noindex
X-PUBLISHED-TTL:PT1H
BEGIN:VTIMEZONE
TZID:Europe/Rome
BEGIN:DAYLIGHT
TZOFFSETFROM:+0100
TZOFFSETTO:+0200
TZNAME:CEST
DTSTART:20240331T010000
END:DAYLIGHT
BEGIN:STANDARD
TZOFFSETFROM:+0200
TZOFFSETTO:+0100
TZNAME:CET
DTSTART:20241027T010000
END:STANDARD
END:VTIMEZONE
BEGIN:VEVENT
DTSTART;TZID=Europe/Rome:20240520T100000
DTEND;TZID=Europe/Rome:20240523T200000
DTSTAMP:20260423T072047
CREATED:20240329T145655Z
LAST-MODIFIED:20240329T155928Z
UID:10001774-1716199200-1716494400@www.lazioinnova.it
SUMMARY:SMAU San Francisco 2024
DESCRIPTION:La Regione Lazio\, per il tramite del soggetto attuatore Lazio Innova\, nell’ambito delle azioni finalizzate alla partecipazione a manifestazioni fieristiche di rilevanza nazionale e internazionale\, indicate nel Programma di Attività di Internazionalizzazione delle mPMI – e in attuazione della DGR n. 933 del 22/12/2023\, seleziona n. 7 Startup e mPMI innovative del Lazio interessate a prendere parte a SMAU San Francisco che si svolgerà a San Francisco dal 20 al 23 maggio 2024. \nLa partecipazione delle 7 imprese sarà sostenuta con i fondi PR FESR Lazio 2021-2027. \nMaggiori informazioni QUI\nIscrizioni online QUI entro il 9 aprile ore 12.00
URL:https://www.lazioinnova.it/eventi/e/smau-san-francisco-2024/
CATEGORIES:Community degli Innovatori,Internazionalizzazione,PR FESR Lazio 2021-2027
ATTACH;FMTTYPE=image/jpeg:https://www.lazioinnova.it/eventi/app/uploads/2023/09/smau-slider.jpg
END:VEVENT
BEGIN:VEVENT
DTSTART;TZID=Europe/Rome:20240522T140000
DTEND;TZID=Europe/Rome:20240522T160000
DTSTAMP:20260423T072047
CREATED:20240430T104719Z
LAST-MODIFIED:20240430T104719Z
UID:10001805-1716386400-1716393600@www.lazioinnova.it
SUMMARY:Workshop Introduzione al UX e UI design: muovere i primi passi in Figma
DESCRIPTION:Durante il workshop\, esploreremo i concetti fondamentali del design esperienziale (UX) e dell’interfaccia utente (UI).\nUtilizzeremo il software Figma per apprendere le basi della progettazione collaborativa e la creazione di prototipi interattivi. \nSarà un’opportunità per acquisire competenze essenziali nel design digitale e familiarizzare con software chiave dell’industria. \nIl workshop si svolgerà in presenza presso il FabLab Lazio sede di Zagarolo\, Spazio Attivo Lazio Innova. \n  \nSi richiede di venire con un proprio PC portatile e un account attivo su Figma
URL:https://www.lazioinnova.it/eventi/e/workshop-introduzione-al-ux-e-ui-design-muovere-i-primi-passi-in-figma/
LOCATION:Spazio Attivo LOIC di Zagarolo\, P\,za della Indipendenza\, 18\, Zagarolo\, RM\, 00039\, Italia
CATEGORIES:Workshop Fablab
ATTACH;FMTTYPE=image/png:https://www.lazioinnova.it/eventi/app/uploads/2021/03/fablab-1.png
END:VEVENT
END:VCALENDAR