BEGIN:VCALENDAR
VERSION:2.0
PRODID:-//Eventi - LazioInnova - ECPv6.3.6//NONSGML v1.0//EN
CALSCALE:GREGORIAN
METHOD:PUBLISH
X-ORIGINAL-URL:https://www.lazioinnova.it/eventi
X-WR-CALDESC:Eventi per Eventi - LazioInnova
REFRESH-INTERVAL;VALUE=DURATION:PT1H
X-Robots-Tag:noindex
X-PUBLISHED-TTL:PT1H
BEGIN:VTIMEZONE
TZID:Europe/Rome
BEGIN:DAYLIGHT
TZOFFSETFROM:+0100
TZOFFSETTO:+0200
TZNAME:CEST
DTSTART:20240331T010000
END:DAYLIGHT
BEGIN:STANDARD
TZOFFSETFROM:+0200
TZOFFSETTO:+0100
TZNAME:CET
DTSTART:20241027T010000
END:STANDARD
END:VTIMEZONE
BEGIN:VEVENT
DTSTART;TZID=Europe/Rome:20240610T150000
DTEND;TZID=Europe/Rome:20240610T180000
DTSTAMP:20260423T085114
CREATED:20250729T112733Z
LAST-MODIFIED:20250729T112733Z
UID:10001813-1718031600-1718042400@www.lazioinnova.it
SUMMARY:PR FESR LAZIO 21-27 Consultazione degli stakeholder delle aree S3 (Smart Specialization Strategy)
DESCRIPTION:Consultazione degli stakeholder delle aree S3 (Smart Specialisation    Strategy) del PR FESR LAZIO  21-27 \nLunedì 10 giugno ore 15.00 \nLazio Innova \nVia Marco Aurelio 26/A \nL’iniziativa è realizzata con il cofinanziamento dell’Unione europea attraverso i fondi del PR FESR Lazio 2021-2027
URL:https://www.lazioinnova.it/eventi/e/consultazione-degli-stakeholder-s3/
LOCATION:Lazio Innova\, Via Marco Aurelio 26/A\, Roma\, 00184\, Italia
ATTACH;FMTTYPE=image/jpeg:https://www.lazioinnova.it/eventi/app/uploads/2024/06/STD-PR-FESR-21-27-Li.jpg
END:VEVENT
END:VCALENDAR