BEGIN:VCALENDAR
VERSION:2.0
PRODID:-//Eventi - LazioInnova - ECPv6.3.6//NONSGML v1.0//EN
CALSCALE:GREGORIAN
METHOD:PUBLISH
X-WR-CALNAME:Eventi - LazioInnova
X-ORIGINAL-URL:https://www.lazioinnova.it/eventi
X-WR-CALDESC:Eventi per Eventi - LazioInnova
REFRESH-INTERVAL;VALUE=DURATION:PT1H
X-Robots-Tag:noindex
X-PUBLISHED-TTL:PT1H
BEGIN:VTIMEZONE
TZID:Europe/Rome
BEGIN:DAYLIGHT
TZOFFSETFROM:+0100
TZOFFSETTO:+0200
TZNAME:CEST
DTSTART:20240331T010000
END:DAYLIGHT
BEGIN:STANDARD
TZOFFSETFROM:+0200
TZOFFSETTO:+0100
TZNAME:CET
DTSTART:20241027T010000
END:STANDARD
END:VTIMEZONE
BEGIN:VEVENT
DTSTART;TZID=Europe/Rome:20240621T113000
DTEND;TZID=Europe/Rome:20240621T130000
DTSTAMP:20260423T084953
CREATED:20240614T074637Z
LAST-MODIFIED:20250729T112547Z
UID:10001819-1718969400-1718974800@www.lazioinnova.it
SUMMARY:PR FESR LAZIO 2021 - 27 - Piattaforma STEP - Consultazione degli stakeholder delle aree S3 - ISCRIZIONI CHIUSE
DESCRIPTION:Il 21 giugno alle ore 11.30\, presso la  Sala Tevere\, la Regione Lazio con il supporto di Lazio Innova\, avvia il percorso di consultazione degli stakeholder delle aree S3 (Smart Specialisation Strategy) sulle potenzialità derivanti dall’approvazione del Regolamento (UE) 2024/795 che istituisce la Piattaforma STEP. \n  \nL’iniziativa è realizzata con il cofinanziamento dell’Unione europea attraverso i fondi del PR FESR Lazio 2021-2027 \n 
URL:https://www.lazioinnova.it/eventi/e/pr-fesr21-27-consultazione-s3/
LOCATION:Regione Lazio – Sala Tevere\, Via Cristoforo Colombo 212\, Roma\, 00154\, Italia
ATTACH;FMTTYPE=image/jpeg:https://www.lazioinnova.it/eventi/app/uploads/2024/06/STD-PR-FESR-21-27-Li@2x-100.jpg
END:VEVENT
END:VCALENDAR