BEGIN:VCALENDAR
VERSION:2.0
PRODID:-//Eventi - LazioInnova - ECPv6.3.6//NONSGML v1.0//EN
CALSCALE:GREGORIAN
METHOD:PUBLISH
X-WR-CALNAME:Eventi - LazioInnova
X-ORIGINAL-URL:https://www.lazioinnova.it/eventi
X-WR-CALDESC:Eventi per Eventi - LazioInnova
REFRESH-INTERVAL;VALUE=DURATION:PT1H
X-Robots-Tag:noindex
X-PUBLISHED-TTL:PT1H
BEGIN:VTIMEZONE
TZID:Europe/Rome
BEGIN:DAYLIGHT
TZOFFSETFROM:+0100
TZOFFSETTO:+0200
TZNAME:CEST
DTSTART:20250330T010000
END:DAYLIGHT
BEGIN:STANDARD
TZOFFSETFROM:+0200
TZOFFSETTO:+0100
TZNAME:CET
DTSTART:20251026T010000
END:STANDARD
END:VTIMEZONE
BEGIN:VEVENT
DTSTART;TZID=Europe/Rome:20250210T120000
DTEND;TZID=Europe/Rome:20250210T180000
DTSTAMP:20260426T044703
CREATED:20250203T155328Z
LAST-MODIFIED:20250528T134013Z
UID:10001943-1739188800-1739210400@www.lazioinnova.it
SUMMARY:Blue Economy e Innovazione: Idee e Soluzioni per Valorizzare il Litorale Laziale
DESCRIPTION:La Regione Lazio\, attraverso Lazio Innova\, organizza l’evento: “Blue Economy e Innovazione: Idee e Soluzioni per Valorizzare il Litorale Laziale. Comuni e PMI a Confronto”.\nSi tratta di una Giornata di Studio sulla Blue Economy riservata a PMI innovative e Amministrazioni locali\, che si terrà il 10 febbraio 2025 presso la Sala Tevere della Regione Lazio\, a partire dalle ore 12.00. \nMaggiori informazioni QUI \nISCRIZIONI ONLINE.
URL:https://www.lazioinnova.it/eventi/e/blue-economy-e-innovazione-idee-e-soluzioni-per-valorizzare-il-litorale-laziale/
CATEGORIES:Community degli Innovatori
ATTACH;FMTTYPE=image/jpeg:https://www.lazioinnova.it/eventi/app/uploads/2025/02/Blue-Economy-Comuni-Costieri-bozza-santa-severa.jpg
END:VEVENT
END:VCALENDAR