BEGIN:VCALENDAR
VERSION:2.0
PRODID:-//Eventi - LazioInnova - ECPv6.3.6//NONSGML v1.0//EN
CALSCALE:GREGORIAN
METHOD:PUBLISH
X-ORIGINAL-URL:https://www.lazioinnova.it/eventi
X-WR-CALDESC:Eventi per Eventi - LazioInnova
REFRESH-INTERVAL;VALUE=DURATION:PT1H
X-Robots-Tag:noindex
X-PUBLISHED-TTL:PT1H
BEGIN:VTIMEZONE
TZID:Europe/Rome
BEGIN:DAYLIGHT
TZOFFSETFROM:+0100
TZOFFSETTO:+0200
TZNAME:CEST
DTSTART:20250330T010000
END:DAYLIGHT
BEGIN:STANDARD
TZOFFSETFROM:+0200
TZOFFSETTO:+0100
TZNAME:CET
DTSTART:20251026T010000
END:STANDARD
END:VTIMEZONE
BEGIN:VEVENT
DTSTART;TZID=Europe/Rome:20250218T150000
DTEND;TZID=Europe/Rome:20250218T163000
DTSTAMP:20260426T044813
CREATED:20250203T154808Z
LAST-MODIFIED:20250528T134135Z
UID:10001942-1739890800-1739896200@www.lazioinnova.it
SUMMARY:Digital Meeting Leonardo SpA: Challenge Robotics “Solvers wanted”
DESCRIPTION:Nell’ambito delle iniziative a supporto dell’ecosistema dell’Aerospazio del Lazio\, la Regione Lazio\, attraverso Lazio Innova\, organizza il Digital Meeting “Leonardo SpA: Challenge Robotics “Solvers wanted”. Nuove prospettive per l’ispezione spaziale” organizzato in collaborazione con gli Esperti di Leonardo SpA – Team Open Innovation e Divisione Spazio. \nL’evento riservato a:\n– Startup e PMI Innovative\n– Spin off universitari\n– Università ed Enti di ricerca \nsi svolge il 18 febbraio 2025\, dalle 15.00 alle 16.30. \nMaggiori informazioni QUI \nISCRIZIONI ONLINE \nIl link di partecipazione verrà inviato il giorno dell’evento all’indirizzo e-mail fornito in fase di registrazione. \n 
URL:https://www.lazioinnova.it/eventi/e/digital-meeting-leonardo-spa-challenge-robotics-solvers-wanted/
CATEGORIES:Community degli Innovatori
ATTACH;FMTTYPE=image/jpeg:https://www.lazioinnova.it/eventi/app/uploads/2025/02/2025_02_18-Banner-Leonardo-Challenge-Robotics-Space-2.jpg
END:VEVENT
END:VCALENDAR