BEGIN:VCALENDAR
VERSION:2.0
PRODID:-//Eventi - LazioInnova - ECPv6.3.6//NONSGML v1.0//EN
CALSCALE:GREGORIAN
METHOD:PUBLISH
X-ORIGINAL-URL:https://www.lazioinnova.it/eventi
X-WR-CALDESC:Eventi per Eventi - LazioInnova
REFRESH-INTERVAL;VALUE=DURATION:PT1H
X-Robots-Tag:noindex
X-PUBLISHED-TTL:PT1H
BEGIN:VTIMEZONE
TZID:Europe/Rome
BEGIN:DAYLIGHT
TZOFFSETFROM:+0100
TZOFFSETTO:+0200
TZNAME:CEST
DTSTART:20250330T010000
END:DAYLIGHT
BEGIN:STANDARD
TZOFFSETFROM:+0200
TZOFFSETTO:+0100
TZNAME:CET
DTSTART:20251026T010000
END:STANDARD
END:VTIMEZONE
BEGIN:VEVENT
DTSTART;TZID=Europe/Rome:20250220T083000
DTEND;TZID=Europe/Rome:20250220T220000
DTSTAMP:20260426T044808
CREATED:20250211T091246Z
LAST-MODIFIED:20250729T091412Z
UID:10001948-1740040200-1740088800@www.lazioinnova.it
SUMMARY:Executive Breakfast - L’attrazione di investimenti nel Lazio - ISCRIZIONI CHIUSE
DESCRIPTION:Giovedì 20 febbraio ore 8.30 \nWEGIL – Largo Ascianghi 5 \nÈ previsto l’intervento di: \nRoberta Angelilli Vicepresidente e Assessore Sviluppo economico\, Commercio\, Artigianato\, Industria\, Internazionalizzazione – Regione Lazio \nFabrizio Lobasso Direttore Centrale per l’Internazionalizzazione Economica – Ministero degli Affari Esteri e della Cooperazione Internazionale \nAndrea Kirschen Financial Instruments Fund & Structuring Senior Officer – Banca Europea Investimenti \nRoberto Rizzardo Responsabile Area Attrazione Investimenti – Invitalia \n  \nCoordina \nFrancesco Marcolini Presidente di Lazio Innova \n  \nSi comunica che questo è un evento di pubblico interesse\, pertanto l’area in cui si svolge sarà soggetta a riprese fotografiche e audio-video.\nPer maggiori info consultare l’Informativa sul Trattamento dei Dati Personali\nL’iniziativa è realizzata con il cofinanziamento dell’Unione europea attraverso i fondi del PR FESR Lazio 2021-2027
URL:https://www.lazioinnova.it/eventi/e/executive-breakfast-attrazione-investimenti/
LOCATION:WEGIL\, Largo Ascianghi 5\, Roma\, 00153\, Italia
CATEGORIES:PR FESR Lazio 2021-2027
ATTACH;FMTTYPE=image/png:https://www.lazioinnova.it/eventi/app/uploads/2025/02/STD_Breakfast-Mercati-Internazionali_nuovo.png
END:VEVENT
BEGIN:VEVENT
DTSTART;TZID=Europe/Rome:20250220T083000
DTEND;TZID=Europe/Rome:20250220T220000
DTSTAMP:20260426T044808
CREATED:20250729T091352Z
LAST-MODIFIED:20250729T091352Z
UID:10001978-1740040200-1740088800@www.lazioinnova.it
SUMMARY:Executive Breakfast - Il Sistema regionale dell’Innovazione
DESCRIPTION:Martedì 25 marzo ore 8.30 \nWEGIL – Largo Ascianghi 5 \nSono previsti  gli interventi di: \nRoberta Angelilli Vicepresidente e Assessore Sviluppo economico\, Commercio\, Artigianato\, Industria\, Internazionalizzazione – Regione Lazio \nTeodoro Valente            Presidente ASI – Agenzia spaziale Italiana                                               FOCUS AEROSPAZIO \nGiorgio Graditi              Direttore Generale ENEA                                                                                 FOCUS ENERGIA                                  \nAnna Moles                      Direttrice Istituto di Biochimica e Biologia Cellulare – CNR               FOCUS BIOTECNOLOGIE                   \nCoordina \nFrancesco Marcolini Presidente di Lazio Innova \n  \nSi comunica che questo è un evento di pubblico interesse\, pertanto l’area in cui si svolge sarà soggetta a riprese fotografiche e audio-video.\nPer maggiori info consultare l’Informativa sul Trattamento dei Dati Personali\nL’iniziativa è realizzata con il cofinanziamento dell’Unione europea attraverso i fondi del PR FESR Lazio 2021-2027
URL:https://www.lazioinnova.it/eventi/e/executive-breakfast-il-sistema-regionale-dellinnovazione/
LOCATION:WEGIL\, Largo Ascianghi 5\, Roma\, 00153\, Italia
CATEGORIES:PR FESR Lazio 2021-2027
ATTACH;FMTTYPE=image/png:https://www.lazioinnova.it/eventi/app/uploads/2025/02/STD_Breakfast-Mercati-Internazionali_nuovo.png
END:VEVENT
END:VCALENDAR