BEGIN:VCALENDAR
VERSION:2.0
PRODID:-//Eventi - LazioInnova - ECPv6.3.6//NONSGML v1.0//EN
CALSCALE:GREGORIAN
METHOD:PUBLISH
X-WR-CALNAME:Eventi - LazioInnova
X-ORIGINAL-URL:https://www.lazioinnova.it/eventi
X-WR-CALDESC:Eventi per Eventi - LazioInnova
REFRESH-INTERVAL;VALUE=DURATION:PT1H
X-Robots-Tag:noindex
X-PUBLISHED-TTL:PT1H
BEGIN:VTIMEZONE
TZID:Europe/Rome
BEGIN:DAYLIGHT
TZOFFSETFROM:+0100
TZOFFSETTO:+0200
TZNAME:CEST
DTSTART:20250330T010000
END:DAYLIGHT
BEGIN:STANDARD
TZOFFSETFROM:+0200
TZOFFSETTO:+0100
TZNAME:CET
DTSTART:20251026T010000
END:STANDARD
END:VTIMEZONE
BEGIN:VEVENT
DTSTART;TZID=Europe/Rome:20250916T180000
DTEND;TZID=Europe/Rome:20250916T190000
DTSTAMP:20260426T025542
CREATED:20250807T110015Z
LAST-MODIFIED:20250918T071205Z
UID:10002048-1758045600-1758049200@www.lazioinnova.it
SUMMARY:GAMIFICATION INNOVATION LAB (GIL) - iscrizioni chiuse
DESCRIPTION:martedì 16 settembre 2025 ore 18.00 \nSPAZIO ATTIVO ROMA CASILINA – Via Casilina 3/t ROMA \nNell’ambito delle attività della ROME FUTURE WEEK presentazione del Gamification Innovation Lab \nIl Gamification Innovation Lab è un laboratorio promosso dallo Spazio Attivo LOIC di Zagarolo\, pensato per sperimentare l’uso della gamification e del game design come strumenti di innovazione. Si tratta di un percorso articolato in più fasi\, che mette in relazione il mondo delle imprese e delle istituzioni – che esprimono un bisogno concreto di innovazione – con creativi\, startup e professionisti in grado di sviluppare soluzioni attraverso il linguaggio del gioco.\nIl laboratorio parte dalla selezione delle realtà (pubbliche o private) che manifestano un’esigenza specifica a cui la gamification può dare risposta. A questa prima fase segue la raccolta delle proposte progettuali\, sviluppate da singoli o team\, che intendono rispondere a quei fabbisogni con soluzioni originali e applicabili. \nI progetti selezionati accedono a un vero e proprio laboratorio\, diviso in due momenti: una parte teorica\, con incontri formativi incentrati su un modello innovativo di Game Design Canvas\, e una parte pratica\, dedicata alla prototipazione e allo sviluppo del Game Design Document e\, dove possibile\, di un primo prototipo di gioco. \nL’iniziativa prevede la selezione di fino a 5 soggetti tra imprese e istituzioni che rappresentino i fabbisogni di innovazione\, e fino a 20 partecipanti tra startup\, professionisti e team creativi\, pronti a trasformare questi bisogni in progetti concreti attraverso l’approccio del game design. \n  \nIl programma rientra nell’ambito del progetto “Potenziamento Rete Spazio Attivo”\, finanziato dal PR Lazio FESR 2021/2027 – Obiettivo 1.3: sostenere la crescita\, la competitività e l’occupazione nelle PMI \nScarica il Save The Date
URL:https://www.lazioinnova.it/eventi/e/gamification-innovation-lab/
LOCATION:Spazio Attivo Roma Casilina\, Spazio Attivo Roma Casilina\, Roma\, 00182\, Italia
ATTACH;FMTTYPE=image/jpeg:https://www.lazioinnova.it/eventi/app/uploads/2025/08/savethedate_Gamification-Innovation-Lab_v1b-scaled.jpg
END:VEVENT
END:VCALENDAR