BEGIN:VCALENDAR
VERSION:2.0
PRODID:-//Eventi - LazioInnova - ECPv6.3.6//NONSGML v1.0//EN
CALSCALE:GREGORIAN
METHOD:PUBLISH
X-WR-CALNAME:Eventi - LazioInnova
X-ORIGINAL-URL:https://www.lazioinnova.it/eventi
X-WR-CALDESC:Eventi per Eventi - LazioInnova
REFRESH-INTERVAL;VALUE=DURATION:PT1H
X-Robots-Tag:noindex
X-PUBLISHED-TTL:PT1H
BEGIN:VTIMEZONE
TZID:Europe/Rome
BEGIN:DAYLIGHT
TZOFFSETFROM:+0100
TZOFFSETTO:+0200
TZNAME:CEST
DTSTART:20250330T010000
END:DAYLIGHT
BEGIN:STANDARD
TZOFFSETFROM:+0200
TZOFFSETTO:+0100
TZNAME:CET
DTSTART:20251026T010000
END:STANDARD
END:VTIMEZONE
BEGIN:VEVENT
DTSTART;TZID=Europe/Rome:20250917T100000
DTEND;TZID=Europe/Rome:20250917T113000
DTSTAMP:20260426T025546
CREATED:20250911T174813Z
LAST-MODIFIED:20250917T115314Z
UID:10002057-1758103200-1758108600@www.lazioinnova.it
SUMMARY:Acceleratori al plasma: la prossima frontiera della tecnologia. Un'innovazione per la scienza e la società - ISCRIZIONI CHIUSE
DESCRIPTION:Acceleratori al plasma: la prossima frontiera della tecnologia\nUn’innovazione per la scienza e la società\nMercoledì 17 settembre ore 10.00 \nBiblioteca Altiero Spinelli – Regione Lazio \nVia R. Raimondi Garibaldi 7 – Roma \nore 10.00 Interventi istituzionali \nRoberta Angelilli\, Vicepresidente e Assessore allo Sviluppo Economico della Regione Lazio \nRene Martins\, European Commission – DG Research & Innovation -ESFRI Secretariat \nTiziana Petucci\, Direttore Sviluppo Economico\, Attività Produttive e Ricerca della Regione Lazio \nFrancesca Sbardella\, Sindaca di Frascati \nAntonio Zoccoli\, Presidente INFN \nore 10.45 Il progetto Eupraxia: prospettive e ricadute sul territorio \nPierluigi Campana\, Coordinatore progetto Eupraxia-ESFRI \nAndrea Ceracchi\, CEO Cecom \nMassimo Ferrario\, Responsabile scientifico presso LNF-INFN \nPaola Gianotti\, Direttrice LNF-INFN \nSi comunica che questo è un evento di pubblico interesse\, pertanto l’area in cui si svolge sarà soggetta a riprese fotografiche e audio-video.\nPer maggiori info consultare l’Informativa sul Trattamento dei Dati Personali\nL’iniziativa  è realizzata con il cofinanziamento dell’Unione europea attraverso i fondi del PR FESR Lazio 2021-2027 \n 
URL:https://www.lazioinnova.it/eventi/e/acceleratori-al-plasma/
LOCATION:Biblioteca Altiero Spinelli – Palazzina C\, Via Rosa Raimondi Garibaldi\, 7\, Roma\, 00145\, Italia
ATTACH;FMTTYPE=image/jpeg:https://www.lazioinnova.it/eventi/app/uploads/2025/09/ACCELERATORI_AL_PLASMA_savethedate_v7-scaled.jpg
END:VEVENT
BEGIN:VEVENT
DTSTART;TZID=Europe/Rome:20250917T163000
DTEND;TZID=Europe/Rome:20250917T183000
DTSTAMP:20260426T025546
CREATED:20250807T113700Z
LAST-MODIFIED:20250917T134527Z
UID:10002051-1758126600-1758133800@www.lazioinnova.it
SUMMARY:Presentazione della call Boost Your Ideas 2025 2026 - ISCRIZIONI CHIUSE
DESCRIPTION:mercoledì 17 settembre 2025 ore 16:30 \nSPAZIO ATTIVO ROMA CASILINA – Via Casilina 3/t ROMA \nNell’ambito delle attività della ROME FUTURE WEEK Presentazione della nuova edizione della call Boost Your Ideas 2025 – 2026 \n  \nIl programma rientra nell’ambito del progetto “Potenziamento Rete Spazio Attivo”\, finanziato dal PR Lazio FESR 2021/2027 – Obiettivo 1.3: sostenere la crescita\, la competitività e l’occupazione nelle PMI \nScarica il Save The Date
URL:https://www.lazioinnova.it/eventi/e/presentazione-call-byi-2025/
LOCATION:Spazio Attivo Roma Casilina\, Spazio Attivo Roma Casilina\, Roma\, 00182\, Italia
ATTACH;FMTTYPE=image/jpeg:https://www.lazioinnova.it/eventi/app/uploads/2025/08/B_savethedate_Boost-your-ideas2025-2026_vDEF-scaled.jpg
END:VEVENT
END:VCALENDAR