BEGIN:VCALENDAR
VERSION:2.0
PRODID:-//Eventi - LazioInnova - ECPv6.3.6//NONSGML v1.0//EN
CALSCALE:GREGORIAN
METHOD:PUBLISH
X-ORIGINAL-URL:https://www.lazioinnova.it/eventi
X-WR-CALDESC:Eventi per Eventi - LazioInnova
REFRESH-INTERVAL;VALUE=DURATION:PT1H
X-Robots-Tag:noindex
X-PUBLISHED-TTL:PT1H
BEGIN:VTIMEZONE
TZID:Europe/Rome
BEGIN:DAYLIGHT
TZOFFSETFROM:+0100
TZOFFSETTO:+0200
TZNAME:CEST
DTSTART:20250330T010000
END:DAYLIGHT
BEGIN:STANDARD
TZOFFSETFROM:+0200
TZOFFSETTO:+0100
TZNAME:CET
DTSTART:20251026T010000
END:STANDARD
END:VTIMEZONE
BEGIN:VEVENT
DTSTART;TZID=Europe/Rome:20250918T090000
DTEND;TZID=Europe/Rome:20250923T200000
DTSTAMP:20260426T025615
CREATED:20250625T085742Z
LAST-MODIFIED:20251002T090919Z
UID:10002030-1758186000-1758657600@www.lazioinnova.it
SUMMARY:Salone Nautico Internazionale di Genova
DESCRIPTION:La Regione Lazio\, attraverso il soggetto attuatore Lazio Innova\, e la Camera di Commercio di Roma\, con il supporto dell’Azienda Speciale Sviluppo e Territorio\, nelle more della firma della Convenzione per la partecipazione congiunta a manifestazioni fieristiche\, nell’ambito delle azioni finalizzate alla partecipazione a manifestazioni fieristiche di rilevanza nazionale e internazionale\, selezionano un massimo di n.  10 Startup e/o PMI del Lazio interessate a prendere parte alla 65^ edizione del Salone Nautico di Genova che si svolgerà dal 18 al 23 settembre 2025. \nLa partecipazione delle 10 Startup e/o PMI del Lazio sarà sostenuta con il contributo del PR FESR Lazio 2021-2027. \nMaggiori informazioni QUI
URL:https://www.lazioinnova.it/eventi/e/salone-nautico-internazionale-di-genova-2/
LOCATION:Salone Nautico Internazionale\, P.le John Fitzgerald Kennedy\, Genova\, GE\, 16129\, Italia
CATEGORIES:Community degli Innovatori,Internazionalizzazione,PR FESR Lazio 2021-2027
ATTACH;FMTTYPE=image/jpeg:https://www.lazioinnova.it/eventi/app/uploads/2025/06/salone-nautico-Genova.jpeg
END:VEVENT
BEGIN:VEVENT
DTSTART;TZID=Europe/Rome:20250918T110000
DTEND;TZID=Europe/Rome:20250918T130000
DTSTAMP:20260426T025615
CREATED:20250807T104245Z
LAST-MODIFIED:20250918T081904Z
UID:10002044-1758193200-1758200400@www.lazioinnova.it
SUMMARY:Incontro: Il Rosa che vale e la Certificazione di Genere. Un vantaggio competitivo per le imprese del Lazio - ISCRIZIONI CHIUSE
DESCRIPTION:giovedì 18 settembre 2025 ore 11.00 \nSPAZIO ATTIVO ROMA CASILINA – Via Casilina 3/t ROMA \nNell’ambito delle attività della ROME FUTURE WEEK \nIl Rosa che vale e la Certificazione di Genere. Un vantaggio competitivo per le imprese del Lazio \nCertificazione di Genere: un vantaggio competitivo per le imprese del Lazio \nInvestire sulla parità di genere non è solo una scelta etica\, ma una leva strategica per la crescita. La certificazione di genere rappresenta un’opportunità concreta per le imprese del Lazio che vogliono distinguersi\, accedere a premialità nei bandi pubblici\, migliorare il clima organizzativo e attrarre nuovi talenti. \nAdottare politiche inclusive e ottenere la certificazione significa posizionarsi come azienda innovativa\, sostenibile e attenta al valore delle persone. Un passo avanti verso un futuro più equo e competitivo. \nSarà possibile discuterne durante l’incontro con Giuseppina Maiorano – Lazio Innova\, Giulia Zanotti – Invitalia\, Sabrina Fattori dott.ssa Commercialista e confrontarsi con le imprenditrici e gli imprenditori presenti. \n  \nIl programma rientra nell’ambito del progetto “Potenziamento Rete Spazio Attivo”\, finanziato dal PR Lazio FESR 2021/2027 – Obiettivo 1.3: sostenere la crescita\, la competitività e l’occupazione nelle PMI \nScarica il Save The Date
URL:https://www.lazioinnova.it/eventi/e/il-rosa-che-vale/
LOCATION:Spazio Attivo Roma Casilina\, Spazio Attivo Roma Casilina\, Roma\, 00182\, Italia
ATTACH;FMTTYPE=image/jpeg:https://www.lazioinnova.it/eventi/app/uploads/2025/08/savethedate_IlRosa_v2-scaled.jpg
END:VEVENT
END:VCALENDAR