BEGIN:VCALENDAR
VERSION:2.0
PRODID:-//Eventi - LazioInnova - ECPv6.3.6//NONSGML v1.0//EN
CALSCALE:GREGORIAN
METHOD:PUBLISH
X-WR-CALNAME:Eventi - LazioInnova
X-ORIGINAL-URL:https://www.lazioinnova.it/eventi
X-WR-CALDESC:Eventi per Eventi - LazioInnova
REFRESH-INTERVAL;VALUE=DURATION:PT1H
X-Robots-Tag:noindex
X-PUBLISHED-TTL:PT1H
BEGIN:VTIMEZONE
TZID:Europe/Rome
BEGIN:DAYLIGHT
TZOFFSETFROM:+0100
TZOFFSETTO:+0200
TZNAME:CEST
DTSTART:20250330T010000
END:DAYLIGHT
BEGIN:STANDARD
TZOFFSETFROM:+0200
TZOFFSETTO:+0100
TZNAME:CET
DTSTART:20251026T010000
END:STANDARD
END:VTIMEZONE
BEGIN:VEVENT
DTSTART;TZID=Europe/Rome:20250929T083000
DTEND;TZID=Europe/Rome:20250929T100000
DTSTAMP:20260426T010854
CREATED:20250918T153345Z
LAST-MODIFIED:20250919T095059Z
UID:10002060-1759134600-1759140000@www.lazioinnova.it
SUMMARY:Executive Breakfast - Venture Capital e Innovazione. Strumenti finanziari per le start up del Lazio
DESCRIPTION:Lunedì 29 settembre ore 8.30 \nWEGIL – Largo Ascianghi 5 \nEXECUTIVE BREAKFAST \nVenture Capital e Innovazione. Strumenti finanziari per le start up del Lazio\nore 8.30 CAFFÈ E NETWORKING \nore 9.00 INTERVENTI \nRoberta Angelilli  VicePresidente e Assessore allo Sviluppo Economico della Regione Lazio \nEmanuele Levi Amministratore Delegato e Direttore Generale – CDP Venture Capital SGR \nEmanuele Calà Senior Vice President Transformation & Technology – Aeroporti di Roma \nLaura D’Angelo – Venture Strategy & Development Director Eniverse Ventures \nPaolo Di Giorgio CEO e Head Managing Director – Angelini Ventures \nPietro Rossi Responsabile Team Investimento – Terna Forward \nore 9.30 SESSIONE Q&A \nore 9.40 CONCLUSIONI \nIntroduce e coordina\nFrancesco Marcolini Presidente di Lazio Innova \nSi comunica che questo è un evento di pubblico interesse\, pertanto l’area in cui si svolge sarà soggetta a riprese fotografiche e audio-video.\nPer maggiori info\, consultare l’Informativa sul Trattamento dei Dati Personali\n  \nScarica il Save The Date \nL’iniziativa è realizzata con il cofinanziamento dell’Unione europea attraverso i fondi del PR FESR Lazio 2021-2027
URL:https://www.lazioinnova.it/eventi/e/venture-capital/
LOCATION:WEGIL\, Largo Ascianghi 5\, Roma\, 00153\, Italia
ATTACH;FMTTYPE=image/jpeg:https://www.lazioinnova.it/eventi/app/uploads/2025/09/Immagine-WhatsApp-2025-09-18-ore-13.34.38_2a76d121.jpg
END:VEVENT
BEGIN:VEVENT
DTSTART;TZID=Europe/Rome:20250929T160000
DTEND;TZID=Europe/Rome:20250929T170000
DTSTAMP:20260426T010854
CREATED:20250923T145815Z
LAST-MODIFIED:20250929T133131Z
UID:10002067-1759161600-1759165200@www.lazioinnova.it
SUMMARY:Webinar informativo: Call4Innovation “Open Energy Lab” - ISCRIZIONI CHIUSE
DESCRIPTION:lunedì 29 settembre 2025 ore 16.00 – 17.00\nOnline \nL’incontro online è dedicato alla Call rivolta a imprese che hanno sviluppato – o stanno sviluppando – soluzioni innovative da applicare al settore energetico e allo smart building per supportare lo sviluppo di soluzioni innovative per la transizione energetica\, attraverso due percorsi distinti: \n\nil primo è un Living Lab\, in cui i progetti selezionati potranno essere sperimentati e validati in un contesto reale\, grazie al dimostratore ePop-Zeb dello Spazio Attivo;\nil secondo è un percorso di Matchmaking\, che mette in contatto innovatori e aziende con player del settore energetico.\n\nLe soluzioni più promettenti sviluppate all’interno dei due percorsi potranno accedere a premi in denaro. \nIl programma si concentra su ambiti strategici come produzione e stoccaggio di energia\, reti intelligenti\, mobilità elettrica\, cattura della CO₂\, economia circolare\, materiali innovativi e digital energy. \nLe candidature possono essere presentate entro il 17 ottobre 2025. \nIl programma rientra nell’ambito del progetto “Potenziamento Rete Spazio Attivo”\, finanziato dal PR Lazio FESR 2021/2027 – Obiettivo 1.3: sostenere la crescita\, la competitività e l’occupazione nelle PMI \nPer partecipare\, è richiesta l’iscrizione online da questa pagina. \nIl link per collegarsi sarà inviato a tutti i partecipanti all’indirizzo e-mail indicato in fase di registrazione.
URL:https://www.lazioinnova.it/eventi/e/webinar-open-energy-lab/
CATEGORIES:PR FESR Lazio 2021-2027,Spazio Attivo,Webinar
ATTACH;FMTTYPE=image/jpeg:https://www.lazioinnova.it/eventi/app/uploads/2025/09/4.jpg
END:VEVENT
END:VCALENDAR