BEGIN:VCALENDAR
VERSION:2.0
PRODID:-//Eventi - LazioInnova - ECPv6.3.6//NONSGML v1.0//EN
CALSCALE:GREGORIAN
METHOD:PUBLISH
X-WR-CALNAME:Eventi - LazioInnova
X-ORIGINAL-URL:https://www.lazioinnova.it/eventi
X-WR-CALDESC:Eventi per Eventi - LazioInnova
REFRESH-INTERVAL;VALUE=DURATION:PT1H
X-Robots-Tag:noindex
X-PUBLISHED-TTL:PT1H
BEGIN:VTIMEZONE
TZID:Europe/Rome
BEGIN:DAYLIGHT
TZOFFSETFROM:+0100
TZOFFSETTO:+0200
TZNAME:CEST
DTSTART:20250330T010000
END:DAYLIGHT
BEGIN:STANDARD
TZOFFSETFROM:+0200
TZOFFSETTO:+0100
TZNAME:CET
DTSTART:20251026T010000
END:STANDARD
END:VTIMEZONE
BEGIN:VEVENT
DTSTART;TZID=Europe/Rome:20251013T173000
DTEND;TZID=Europe/Rome:20251013T183000
DTSTAMP:20260426T010854
CREATED:20251001T164247Z
LAST-MODIFIED:20251009T092148Z
UID:10002074-1760376600-1760380200@www.lazioinnova.it
SUMMARY:Presentazione opportunità a sostegno del tessuto imprenditoriale
DESCRIPTION:Lunedì 13 ottobre ore 17:30 \nSpazio Attivo Lazio Innova di Bracciano Via di Valle Foresta\, 6 \nPresentazione  opportunità a sostegno del tessuto imprenditoriale \nIntervengono: \nRoberta Angelilli\, Vicepresidente e Assessore allo Sviluppo Economico della Regione Lazio \nFrancesco Marcolini\, Presidente Lazio Innova S\,p.A. \nModera \nAngelo Alberto Bergodi\, Delegato Rapporti istituzionali Università Agraria di Bracciano \nParteciperanno i sindaci e le altre istituzioni del territorio \n  \nSi comunica che questo è un evento di pubblico interesse\, pertanto l’area in cui si svolge sarà soggetta a riprese fotografiche e audio-video.\nPer maggiori info\, consultare l’Informativa sul Trattamento dei Dati Personali \nIl programma rientra nell’ambito del progetto “Potenziamento Rete Spazio Attivo”\, finanziato dal PR Lazio FESR 2021/2027 – Obiettivo 1.3: sostenere la crescita\, la competitività e l’occupazione nelle PMI
URL:https://www.lazioinnova.it/eventi/e/opportunita-a-sostegno/
LOCATION:Spazio Attivo Bracciano\, Via di Valle Foresta\, 6\, Bracciano\, RM\, 00062\, Italia
ATTACH;FMTTYPE=image/png:https://www.lazioinnova.it/eventi/app/uploads/2025/10/Evento-Bracciano-13-ottobre-2025.png
END:VEVENT
END:VCALENDAR