BEGIN:VCALENDAR
VERSION:2.0
PRODID:-//Eventi - LazioInnova - ECPv6.3.6//NONSGML v1.0//EN
CALSCALE:GREGORIAN
METHOD:PUBLISH
X-ORIGINAL-URL:https://www.lazioinnova.it/eventi
X-WR-CALDESC:Eventi per Eventi - LazioInnova
REFRESH-INTERVAL;VALUE=DURATION:PT1H
X-Robots-Tag:noindex
X-PUBLISHED-TTL:PT1H
BEGIN:VTIMEZONE
TZID:Europe/Rome
BEGIN:DAYLIGHT
TZOFFSETFROM:+0100
TZOFFSETTO:+0200
TZNAME:CEST
DTSTART:20260329T010000
END:DAYLIGHT
BEGIN:STANDARD
TZOFFSETFROM:+0200
TZOFFSETTO:+0100
TZNAME:CET
DTSTART:20261025T010000
END:STANDARD
END:VTIMEZONE
BEGIN:VEVENT
DTSTART;TZID=Europe/Rome:20260114T143000
DTEND;TZID=Europe/Rome:20260114T153000
DTSTAMP:20260425T204042
CREATED:20260108T185915Z
LAST-MODIFIED:20260114T120039Z
UID:10002113-1768401000-1768404600@www.lazioinnova.it
SUMMARY:Presentazione della Call Investor Day 4 Life Science
DESCRIPTION:Mercoledì 14 Gennaio 2026 Ore 14.30 \nTecnopolo di Castel Romano – Via di Castel Romano 100 (Edificio B\, Sala Convegni Piano Terra) \nPRESENTAZIONE DELLA CALL INVESTOR DAY 4 LIFE SCIENCE \nCandidature aperte (per info e iscrizioni online: Investor Day4Life Science – Innovazione Aperta – LazioInnova) \n  \nSi comunica che questo è un evento di pubblico interesse\, pertanto l’area in cui si svolge sarà soggetta a riprese fotografiche e audio-video.\nPer maggiori info consultare l’Informativa sul Trattamento dei Dati Personali\nL’iniziativa è realizzata con il cofinanziamento dell’Unione europea attraverso i fondi del PR FESR Lazio 2021-2027. \n 
URL:https://www.lazioinnova.it/eventi/e/presentazione-call-4lifescience/
LOCATION:Tecnopolo Castel Romano – Edificio B\, Sala Convegni Piano Terra\, Via di Castel Romano 100\, Roma\, 00128\, Italy
ATTACH;FMTTYPE=image/png:https://www.lazioinnova.it/eventi/app/uploads/2026/01/FB.png
END:VEVENT
END:VCALENDAR