BEGIN:VCALENDAR
VERSION:2.0
PRODID:-//Eventi - LazioInnova - ECPv6.3.6//NONSGML v1.0//EN
CALSCALE:GREGORIAN
METHOD:PUBLISH
X-WR-CALNAME:Eventi - LazioInnova
X-ORIGINAL-URL:https://www.lazioinnova.it/eventi
X-WR-CALDESC:Eventi per Eventi - LazioInnova
REFRESH-INTERVAL;VALUE=DURATION:PT1H
X-Robots-Tag:noindex
X-PUBLISHED-TTL:PT1H
BEGIN:VTIMEZONE
TZID:Europe/Rome
BEGIN:DAYLIGHT
TZOFFSETFROM:+0100
TZOFFSETTO:+0200
TZNAME:CEST
DTSTART:20230326T010000
END:DAYLIGHT
BEGIN:STANDARD
TZOFFSETFROM:+0200
TZOFFSETTO:+0100
TZNAME:CET
DTSTART:20231029T010000
END:STANDARD
END:VTIMEZONE
BEGIN:VEVENT
DTSTART;TZID=Europe/Rome:20231020T120000
DTEND;TZID=Europe/Rome:20231020T130000
DTSTAMP:20260419T223709
CREATED:20231018T085304Z
LAST-MODIFIED:20250801T133542Z
UID:10001396-1697803200-1697806800@www.lazioinnova.it
SUMMARY:Bando per l'internazionalizzazione delle PMI - Voucher fiere internazionali e presentazione delle strategie regionali
DESCRIPTION:Bando per l’internazionalizzazione delle PMI\nVoucher fiere internazionali e  presentazione delle strategie regionali\nVenerdì 20 ottobre ore 12 \nSala Tevere – Regione Lazio \nVia Cristoforo Colombo\, 212 \nIntervengono: \nRoberta Angelilli\, Vicepresidente Regione Lazio \nLorenzo Tagliavanti\, Presidente Camera di Commercio di Roma \nPasquale Salzano\, Presidente Simest \nAlessandra Pastorelli\, Capo Ufficio Indirizzo e Vigilanza sull’ICE – DGSP – Ministero degli Affari Esteri e della Cooperazione Internazionale. \nPer prenotarsi occorre registrarsi a questo evento. Solo\, successivamente\, ti sarà inviata dagli organizzatori una mail con il link per accedere alla sessione on line. \nPer eventuali domande sul bando è possibile scrivere a comunicazione@lazioinnova.it \nSaranno fornite le risposte nel corso dell’incontro. \n  \nL’iniziativa è realizzata con il cofinanziamento dell’Unione europea attraverso i fondi del PR FESR Lazio 2021-2027
URL:https://www.lazioinnova.it/eventi/e/internazionalizzazione-delle-pmi/
LOCATION:Sala Tevere – Regione Lazio\, Via C. Colombo 212\, Roma\, 00147\, Italia
CATEGORIES:Evento Regione
ATTACH;FMTTYPE=image/jpeg:https://www.lazioinnova.it/eventi/app/uploads/2023/10/Internazionalizzazione-MF-social-card_TW-scaled.jpg
END:VEVENT
END:VCALENDAR