BEGIN:VCALENDAR
VERSION:2.0
PRODID:-//Eventi - LazioInnova - ECPv6.3.6//NONSGML v1.0//EN
CALSCALE:GREGORIAN
METHOD:PUBLISH
X-ORIGINAL-URL:https://www.lazioinnova.it/eventi
X-WR-CALDESC:Eventi per Eventi - LazioInnova
REFRESH-INTERVAL;VALUE=DURATION:PT1H
X-Robots-Tag:noindex
X-PUBLISHED-TTL:PT1H
BEGIN:VTIMEZONE
TZID:Europe/Rome
BEGIN:DAYLIGHT
TZOFFSETFROM:+0100
TZOFFSETTO:+0200
TZNAME:CEST
DTSTART:20210328T010000
END:DAYLIGHT
BEGIN:STANDARD
TZOFFSETFROM:+0200
TZOFFSETTO:+0100
TZNAME:CET
DTSTART:20211031T010000
END:STANDARD
END:VTIMEZONE
BEGIN:VEVENT
DTSTART;TZID=Europe/Rome:20210408T160000
DTEND;TZID=Europe/Rome:20210408T173000
DTSTAMP:20260423T211443
CREATED:20210329T111234Z
LAST-MODIFIED:20210329T111234Z
UID:10001040-1617897600-1617903000@www.lazioinnova.it
SUMMARY:Al via Start Cup Lazio 2021: le idee di ricercatori e studenti diventano start up innovative ISCRIZIONI CHIUSE
DESCRIPTION:Siete un team di studenti universitari o di ricercatori e vorreste trasformare la vostra idea in una start up innovativa? Start Cup Lazio è la Business Plan Competition accademica regionale che fa per voi\, accompagnandovi lungo tutto il percorso dall’idea al modello di business\, fino alla creazione d’impresa. Per saperne di più\, partecipate al webinar di presentazione del bando e visitate https://startcuplazio.it/.\nRelatori:\nPaola Paniccia – Professore Ordinario di Business Management; Delegato al Direttivo PNICube e al coordinamento della Start Cup Lazio; Università degli Studi di Roma “Tor Vergata”.\nSilvia Baiocco – PhD\, Research Fellow in Management; Comitato Organizzativo-Segreteria Start Cup Lazio; Università degli Studi di Roma “Tor Vergata”.\nFrancesco Mazzocco – Specialista per l’innovazione; Intesa Sanpaolo.\nFrancesca Calenne – Coordinatrice Spazio Attivo Colleferro  \nPer partecipare all’incontro di presentazione di Start Cup Lazio\, registratevi all’evento; successivamente vi sarà inviata dagli organizzatori una mail con il link per accedere al webinar.\nL’appuntamento è aperto a un massimo di 100 partecipanti e avrà la durata di un’ora e mezza circa.
URL:https://www.lazioinnova.it/eventi/e/al-via-start-cup-lazio-2021-le-idee-di-ricercatori-e-studenti-diventano-start-up-innovative/
CATEGORIES:Presentazione Bandi
ATTACH;FMTTYPE=image/png:https://www.lazioinnova.it/eventi/app/uploads/2021/03/logoSCL2021-1.png
END:VEVENT
END:VCALENDAR