BEGIN:VCALENDAR
VERSION:2.0
PRODID:-//Eventi - LazioInnova - ECPv6.3.6//NONSGML v1.0//EN
CALSCALE:GREGORIAN
METHOD:PUBLISH
X-ORIGINAL-URL:https://www.lazioinnova.it/eventi
X-WR-CALDESC:Eventi per Eventi - LazioInnova
REFRESH-INTERVAL;VALUE=DURATION:PT1H
X-Robots-Tag:noindex
X-PUBLISHED-TTL:PT1H
BEGIN:VTIMEZONE
TZID:Europe/Rome
BEGIN:DAYLIGHT
TZOFFSETFROM:+0100
TZOFFSETTO:+0200
TZNAME:CEST
DTSTART:20220327T010000
END:DAYLIGHT
BEGIN:STANDARD
TZOFFSETFROM:+0200
TZOFFSETTO:+0100
TZNAME:CET
DTSTART:20221030T010000
END:STANDARD
BEGIN:DAYLIGHT
TZOFFSETFROM:+0100
TZOFFSETTO:+0200
TZNAME:CEST
DTSTART:20230326T010000
END:DAYLIGHT
BEGIN:STANDARD
TZOFFSETFROM:+0200
TZOFFSETTO:+0100
TZNAME:CET
DTSTART:20231029T010000
END:STANDARD
BEGIN:DAYLIGHT
TZOFFSETFROM:+0100
TZOFFSETTO:+0200
TZNAME:CEST
DTSTART:20240331T010000
END:DAYLIGHT
BEGIN:STANDARD
TZOFFSETFROM:+0200
TZOFFSETTO:+0100
TZNAME:CET
DTSTART:20241027T010000
END:STANDARD
BEGIN:DAYLIGHT
TZOFFSETFROM:+0100
TZOFFSETTO:+0200
TZNAME:CEST
DTSTART:20250330T010000
END:DAYLIGHT
BEGIN:STANDARD
TZOFFSETFROM:+0200
TZOFFSETTO:+0100
TZNAME:CET
DTSTART:20251026T010000
END:STANDARD
END:VTIMEZONE
BEGIN:VEVENT
DTSTART;TZID=Europe/Rome:20220303T160000
DTEND;TZID=Europe/Rome:20220303T180000
DTSTAMP:20260425T145042
CREATED:20220303T155148Z
LAST-MODIFIED:20220303T155148Z
UID:10001202-1646323200-1646330400@www.lazioinnova.it
SUMMARY:workshop in presenza FABLAB Adobe Illustrator per il taglio laser
DESCRIPTION:10/03/22 Workshop in presenza\nOre 16.00-18.00\nAdobe Illustrator per il taglio laser\nWorkflow per la prototipazione su Laser Cutter: da Adobe Illustrator alla messa in macchina\nPresso lo spazio attivo Lazio Innova di COLLEFERRO \nVia Via degli Esplosivi\, 15  00034 Colleferro  (RM)    
URL:https://www.lazioinnova.it/eventi/e/workshop-in-presenza-fablab-adobe-illustrator-per-il-taglio-laser/
CATEGORIES:Webinar Fablab
ATTACH;FMTTYPE=image/png:https://www.lazioinnova.it/eventi/app/uploads/2021/03/fablab-1.png
END:VEVENT
BEGIN:VEVENT
DTSTART;TZID=Europe/Rome:20220308T170000
DTEND;TZID=Europe/Rome:20220308T180000
DTSTAMP:20260425T145042
CREATED:20220303T154128Z
LAST-MODIFIED:20220303T154128Z
UID:10001200-1646758800-1646762400@www.lazioinnova.it
SUMMARY:Webinar on line Fablab - Panoramica sulle lavorazioni 2D
DESCRIPTION:08/03/22 Webinar Online\nOre 17.00-18.00\nPanoramica sulle lavorazioni 2D\nIntroduzione e panoramica sulle lavorazioni 2D sottrattive: Laser CO2\, Waterjet\, Plasma\n 
URL:https://www.lazioinnova.it/eventi/e/webinar-on-line-fablab-panoramica-sulle-lavorazioni-2d/
CATEGORIES:Webinar Fablab
ATTACH;FMTTYPE=image/png:https://www.lazioinnova.it/eventi/app/uploads/2021/03/fablab-1.png
END:VEVENT
BEGIN:VEVENT
DTSTART;TZID=Europe/Rome:20220310T160000
DTEND;TZID=Europe/Rome:20220310T180000
DTSTAMP:20260425T145042
CREATED:20220304T090841Z
LAST-MODIFIED:20220304T090841Z
UID:10001208-1646928000-1646935200@www.lazioinnova.it
SUMMARY:Workshop in presenza FABLAB Adobe Illustrator per il taglio laser
DESCRIPTION:10/03/22 Workshop in presenza\nOre 16.00-18.00\nAdobe Illustrator per il taglio laser\nWorkflow per la prototipazione su Laser Cutter: da Adobe Illustrator alla messa in macchina\nPresso lo spazio attivo Lazio Innova di COLLEFERRO \nVia Via degli Esplosivi\, 15  00034 Colleferro  (RM)    \n 
URL:https://www.lazioinnova.it/eventi/e/workshop-in-presenza-fablab-adobe-illustrator-per-il-taglio-laser-2/
CATEGORIES:Webinar Fablab
ATTACH;FMTTYPE=image/png:https://www.lazioinnova.it/eventi/app/uploads/2021/03/fablab-1.png
END:VEVENT
BEGIN:VEVENT
DTSTART;TZID=Europe/Rome:20220317T160000
DTEND;TZID=Europe/Rome:20220317T180000
DTSTAMP:20260425T145042
CREATED:20220304T083745Z
LAST-MODIFIED:20220304T083745Z
UID:10001205-1647532800-1647540000@www.lazioinnova.it
SUMMARY:Workshop in presenza FABLAB Basi di modellazione 3D
DESCRIPTION:17/03/22 Workshop in presenza\nOre 16.00-18.00\nBasi di modellazione 3D\nDalle basi su Tinkercad ad i primi passi su Autodesk Fusion 360\nPresso lo spazio attivo Lazio Innova di COLLEFERRO \nVia Via degli Esplosivi\, 15  00034 Colleferro  (RM)    
URL:https://www.lazioinnova.it/eventi/e/workshop-in-presenza-fablab-basi-di-modellazione-3d/
CATEGORIES:Webinar Fablab
ATTACH;FMTTYPE=image/png:https://www.lazioinnova.it/eventi/app/uploads/2021/03/fablab-1.png
END:VEVENT
BEGIN:VEVENT
DTSTART;TZID=Europe/Rome:20220322T170000
DTEND;TZID=Europe/Rome:20220322T180000
DTSTAMP:20260425T145042
CREATED:20220304T084257Z
LAST-MODIFIED:20220304T084257Z
UID:10001206-1647968400-1647972000@www.lazioinnova.it
SUMMARY:Webinar Online FABLAB Dai satelliti ai sistemi di controllo
DESCRIPTION:22/03/22 Webinar Online\nOre 17.00-18.00\nDai satelliti ai sistemi di controllo\nUna storia recente riscritta grazie alla scheda programmabile Arduino
URL:https://www.lazioinnova.it/eventi/e/webinar-online-fablab-dai-satelliti-ai-sistemi-di-controllo/
CATEGORIES:Webinar Fablab
ATTACH;FMTTYPE=image/png:https://www.lazioinnova.it/eventi/app/uploads/2021/03/fablab-1.png
END:VEVENT
BEGIN:VEVENT
DTSTART;TZID=Europe/Rome:20220324T160000
DTEND;TZID=Europe/Rome:20220324T180000
DTSTAMP:20260425T145042
CREATED:20220304T084815Z
LAST-MODIFIED:20220304T084815Z
UID:10001207-1648137600-1648144800@www.lazioinnova.it
SUMMARY:Workshop in presenza FABLAB Introduzione ad Arduino
DESCRIPTION:24/03/22 Workshop in presenza\nOre 16.00-18.00\nIntroduzione ad Arduino\nPrime applicazioni e potenzialità\nPresso lo spazio attivo Lazio Innova di COLLEFERRO \nVia Via degli Esplosivi\, 15  00034 Colleferro  (RM)    
URL:https://www.lazioinnova.it/eventi/e/webinar-in-presenza-fablab-introduzione-ad-arduino/
CATEGORIES:Webinar Fablab
ATTACH;FMTTYPE=image/png:https://www.lazioinnova.it/eventi/app/uploads/2021/03/fablab-1.png
END:VEVENT
BEGIN:VEVENT
DTSTART;TZID=Europe/Rome:20220412T153000
DTEND;TZID=Europe/Rome:20220412T173000
DTSTAMP:20260425T145042
CREATED:20220405T141436Z
LAST-MODIFIED:20220405T141436Z
UID:10001510-1649777400-1649784600@www.lazioinnova.it
SUMMARY:WORKSHOP IN PRESENZA  FABLAB - Stampa 3D
DESCRIPTION:12/04/22 Workshop in presenza\nOre 15.30-17.30\nStampa 3D\nWorkflow per la prototipazione tramite stampa 3D: dal modello 3D allo slicer\, fino alla messa in macchina e test di stampa.\nPresso lo spazio attivo Lazio Innova di FERENTINO\nVia Casilina\, 246  03013  Ferentino  (FR)
URL:https://www.lazioinnova.it/eventi/e/workshop-in-presenza-fablab-stampa-3d/
CATEGORIES:Webinar Fablab
ATTACH;FMTTYPE=image/png:https://www.lazioinnova.it/eventi/app/uploads/2021/03/fablab-1.png
END:VEVENT
BEGIN:VEVENT
DTSTART;TZID=Europe/Rome:20220412T170000
DTEND;TZID=Europe/Rome:20220412T180000
DTSTAMP:20260425T145042
CREATED:20220401T131209Z
LAST-MODIFIED:20220401T131209Z
UID:10001508-1649782800-1649786400@www.lazioinnova.it
SUMMARY:WEBINAR ONLINE FABLAB -Panoramica sul software di modellazione 3D Rhinoceros
DESCRIPTION:12/04/22 Webinar Online\nOre 17.00-18.00\nPanoramica sul software di modellazione 3D Rhinoceros\nPanoramica sulle funzioni principali e potenzialità di uno dei più famosi ed utilizzati software per la modellazione 3D.
URL:https://www.lazioinnova.it/eventi/e/webinar-online-fablab-panoramica-sul-software-di-modellazione-3d-rhinoceros/
CATEGORIES:Webinar Fablab
ATTACH;FMTTYPE=image/png:https://www.lazioinnova.it/eventi/app/uploads/2021/03/fablab-1.png
END:VEVENT
BEGIN:VEVENT
DTSTART;TZID=Europe/Rome:20220414T170000
DTEND;TZID=Europe/Rome:20220414T180000
DTSTAMP:20260425T145042
CREATED:20220405T143639Z
LAST-MODIFIED:20220405T143639Z
UID:10001512-1649955600-1649959200@www.lazioinnova.it
SUMMARY:WEBINAR ON LINE FABLAB - Roland BN-20 e software Versaworks
DESCRIPTION:14/04/22 Webinar Online\nOre 17.00-18.00\nRoland BN-20 e software Versaworks\nWorkflow per la stampa e taglio tramite il plotter Roland Bn-20
URL:https://www.lazioinnova.it/eventi/e/webinar-on-line-fablab-roland-bn-20-e-software-versaworks/
CATEGORIES:Webinar Fablab
ATTACH;FMTTYPE=image/png:https://www.lazioinnova.it/eventi/app/uploads/2021/03/fablab-1.png
END:VEVENT
BEGIN:VEVENT
DTSTART;TZID=Europe/Rome:20220419T170000
DTEND;TZID=Europe/Rome:20220419T180000
DTSTAMP:20260425T145042
CREATED:20220412T144315Z
LAST-MODIFIED:20220412T144315Z
UID:10001514-1650387600-1650391200@www.lazioinnova.it
SUMMARY:WEBINAR ONLINE- FABLAB -  Design Process REGISTRAZIONI CHIUSE
DESCRIPTION:19/04/22  Webinar Online \nOre 17.00-18.00\nDesign Process\nLa finalità principale del webinar è guidare l’utente al processo di progettazione\, portando alla luce quali sono i principi fondamentali\, con l’obiettivo di stimolare l’utente a progettare in un modo preciso e schematico.
URL:https://www.lazioinnova.it/eventi/e/webinar-online-fablab-design-process/
CATEGORIES:Webinar Fablab
ATTACH;FMTTYPE=image/png:https://www.lazioinnova.it/eventi/app/uploads/2021/03/fablab-1.png
END:VEVENT
BEGIN:VEVENT
DTSTART;TZID=Europe/Rome:20220421T160000
DTEND;TZID=Europe/Rome:20220421T180000
DTSTAMP:20260425T145042
CREATED:20220412T144746Z
LAST-MODIFIED:20220412T144746Z
UID:10001515-1650556800-1650564000@www.lazioinnova.it
SUMMARY:WORKSHOP IN PRESENZA - Personalizzazione di capi d’abbigliamento
DESCRIPTION:21/04/22 Workshop in presenza\nOre 16.00-18.00\nPersonalizzazione di capi d’abbigliamento\nPersonalizziamo dei capi d’abbigliamento con l’uso del plotter da stampa e taglio e le pellicole termotrasferibili. Workflow completo\, fino all’applicazione delle grafiche tramite termopressa\nPresso lo spazio attivo Lazio Innova di LATINA\nVia Carlo Alberto\, 22  04100 Latina (LT)\n 
URL:https://www.lazioinnova.it/eventi/e/workshop-in-presenza-personalizzazione-di-capi-dabbigliamento/
CATEGORIES:Webinar Fablab
ATTACH;FMTTYPE=image/png:https://www.lazioinnova.it/eventi/app/uploads/2021/03/fablab-1.png
END:VEVENT
BEGIN:VEVENT
DTSTART;TZID=Europe/Rome:20220426T153000
DTEND;TZID=Europe/Rome:20220426T163000
DTSTAMP:20260425T145042
CREATED:20220412T145546Z
LAST-MODIFIED:20220412T145546Z
UID:10001218-1650987000-1650990600@www.lazioinnova.it
SUMMARY:WEBINAR ONLINE -FABLAB - Introduzione alla scheda programmabile Arduino
DESCRIPTION:26/04/22 Webinar Online\nOre 15.30-16.30\nIntroduzione alla scheda programmabile Arduino\nPanoramica sulle potenzialità della più famosa scheda per la prototipazione elettronica\n 
URL:https://www.lazioinnova.it/eventi/e/webinar-online-introduzione-alla-scheda-programmabile-arduino/
CATEGORIES:Webinar Fablab
ATTACH;FMTTYPE=image/png:https://www.lazioinnova.it/eventi/app/uploads/2021/03/fablab-1.png
END:VEVENT
BEGIN:VEVENT
DTSTART;TZID=Europe/Rome:20220426T170000
DTEND;TZID=Europe/Rome:20220426T180000
DTSTAMP:20260425T145042
CREATED:20220412T145213Z
LAST-MODIFIED:20220412T145213Z
UID:10001516-1650992400-1650996000@www.lazioinnova.it
SUMMARY:WEBINAR ONLINE - Nuove tecnologie 3D e materiali per la produzione in ambito spazio
DESCRIPTION:26/04/22 Webinar Online\nOre 17.00-18.00\nNuove tecnologie 3D e materiali per la produzione in ambito spazio\nPanoramica sulle tecnologie e materiali utilizzabili per prototipazione in ambito spaziale\n 
URL:https://www.lazioinnova.it/eventi/e/webinar-online-nuove-tecnologie-3d-e-materiali-per-la-produzione-in-ambito-spazio/
CATEGORIES:Webinar Fablab
ATTACH;FMTTYPE=image/png:https://www.lazioinnova.it/eventi/app/uploads/2021/03/fablab-1.png
END:VEVENT
BEGIN:VEVENT
DTSTART;TZID=Europe/Rome:20240212T150000
DTEND;TZID=Europe/Rome:20240212T170000
DTSTAMP:20260425T145042
CREATED:20240119T110958Z
LAST-MODIFIED:20240119T111018Z
UID:10001741-1707750000-1707757200@www.lazioinnova.it
SUMMARY:Webinar Orcaslicer
DESCRIPTION:Workshop Fablab Lazio sede di Viterbo \n12/02/2024 – 15.00/17.00\nOrcaslicer \nUna panoramica su uno dei più recenti e apprezzati slicer\, dal modello 3d fino alla stampa\nIl workshop si svolgerà in presenza presso il FabLab Lazio sede di Viterbo\, Spazio Attivo Lazio Innova.\nVia Faul\, 20/22 – 01100 Viterbo \nSi richiede di venire con un proprio PC portatile
URL:https://www.lazioinnova.it/eventi/e/webinar-orcaslicer/
CATEGORIES:Webinar Fablab
ATTACH;FMTTYPE=image/png:https://www.lazioinnova.it/eventi/app/uploads/2021/03/fablab-1.png
END:VEVENT
BEGIN:VEVENT
DTSTART;TZID=Europe/Rome:20240215T163000
DTEND;TZID=Europe/Rome:20240215T183000
DTSTAMP:20260425T145042
CREATED:20240119T105401Z
LAST-MODIFIED:20240119T105904Z
UID:10001739-1708014600-1708021800@www.lazioinnova.it
SUMMARY:Webinar Laser Lab: creare una lampada in legno compensato
DESCRIPTION:Workshop Fablab Lazio sede di Colleferro \n15/02/2024 – 16.30/18.30\nLaser Lab: creare una lampada in legno compensato \nEntra nel mondo del taglio laser\, seguendo tutto il processo per costruire una lampada decorata.\nIniziando dal disegno\, per passare al prototipo utilizzando i software specifici per gestire il macchinario. Al termine del workshop avrai ricevuto i trucchi e gli accorgimenti per proseguire nella progettazione e realizzazione di manufatti utilizzando un taglio laser. \nIl workshop si svolgerà in presenza presso il FabLab Lazio sede di Colleferro\, Spazio Attivo Lazio Innova.\nVia Degli Esplosivi\, 15 – 00034 Colleferro (RM) \nSi richiede di venire con un proprio PC portatile
URL:https://www.lazioinnova.it/eventi/e/webinar-laser-lab-creare-una-lampada-in-legno-compensato/
CATEGORIES:Webinar Fablab
ATTACH;FMTTYPE=image/png:https://www.lazioinnova.it/eventi/app/uploads/2021/03/fablab-1.png
END:VEVENT
BEGIN:VEVENT
DTSTART;TZID=Europe/Rome:20251110T163000
DTEND;TZID=Europe/Rome:20251110T183000
DTSTAMP:20260425T145042
CREATED:20251022T134504Z
LAST-MODIFIED:20251110T151645Z
UID:10002085-1762792200-1762799400@www.lazioinnova.it
SUMMARY:WORKSHOP FABLAB - AI per il business: dalla scoperta alle prime applicazioni - iscrizioni chiuse
DESCRIPTION:Lunedì 10 novembre \n16:30-18:30 (on line) \nAI PER IL BUSINESS: DALLA SCOPERTA ALLE PRIME APPLICAZIONI\nQuesto workshop ti introduce ai concetti fondamentali e agli strumenti pratici: chatbot\, generatori di immagini e testo\, con esempi di strumenti gratuiti e a pagamento disponibili. \nPrima parte – Capire l’AI e il suo impatto sul business \n\nObiettivi: fornire le basi concettuali sull’intelligenza artificiale\, smontando miti e presentando le principali tipologie di applicazioni.\n\n\nContenuti:\nChe cos’è (e cosa non è) l’AI\nPrincipali aree applicative (analisi dati\, marketing\, customer care\, automazione processi\, creatività\, ecc.)\nCase study reali di imprese che hanno già adottato l’AI con successo\nOpportunità e rischi per PMI e startup\n\n  \nSeconda parte – AI al servizio dell’impresa: strumenti pratici e low cost \n\nObiettivi: mostrare strumenti accessibili anche a chi non ha competenze tecniche.\n\n\nContenuti:\nPanoramica di tool “pronti all’uso” (chatbot\, generazione contenuti\, analisi dati con AI\, strumenti no-code/low-code)\nDemo pratiche (es. scrivere un piano di marketing con un LLM (Large Language Model)\, creare immagini per la comunicazione\, analizzare dati di vendita)\nCome integrare l’AI nei processi aziendali senza stravolgere l’organizzazione\n\nREQUISITI: PC proprio \nIl programma rientra nell’ambito del progetto “Potenziamento Rete Spazio Attivo”\, finanziato dal PR Lazio FESR 2021/2027 – Obiettivo 1.3: sostenere la crescita\, la competitività e l’occupazione nelle PMI
URL:https://www.lazioinnova.it/eventi/e/workshop-fablab-ai-business/
CATEGORIES:Webinar Fablab
ATTACH;FMTTYPE=image/png:https://www.lazioinnova.it/eventi/app/uploads/2020/04/FabLabLazio.png
END:VEVENT
END:VCALENDAR