BEGIN:VCALENDAR
VERSION:2.0
PRODID:-//Eventi - LazioInnova - ECPv6.3.6//NONSGML v1.0//EN
CALSCALE:GREGORIAN
METHOD:PUBLISH
X-WR-CALNAME:Eventi - LazioInnova
X-ORIGINAL-URL:https://www.lazioinnova.it/eventi
X-WR-CALDESC:Eventi per Eventi - LazioInnova
REFRESH-INTERVAL;VALUE=DURATION:PT1H
X-Robots-Tag:noindex
X-PUBLISHED-TTL:PT1H
BEGIN:VTIMEZONE
TZID:Europe/Rome
BEGIN:DAYLIGHT
TZOFFSETFROM:+0100
TZOFFSETTO:+0200
TZNAME:CEST
DTSTART:20210328T010000
END:DAYLIGHT
BEGIN:STANDARD
TZOFFSETFROM:+0200
TZOFFSETTO:+0100
TZNAME:CET
DTSTART:20211031T010000
END:STANDARD
END:VTIMEZONE
BEGIN:VEVENT
DTSTART;TZID=Europe/Rome:20211216T160000
DTEND;TZID=Europe/Rome:20211216T170000
DTSTAMP:20260425T191218
CREATED:20211123T102444Z
LAST-MODIFIED:20211123T102444Z
UID:10001132-1639670400-1639674000@www.lazioinnova.it
SUMMARY:Webinar La Delta Wasp 40100 Clay. registrazioni chiuse
DESCRIPTION:La Delta Wasp 40100 Clay.\nPanoramica sulle caratteristiche e funzionalità della Delta Wasp 40100 Clay. Materiali proprietari stampabili.\n16 Dicembre 2021\n16.00-17.00
URL:https://www.lazioinnova.it/eventi/e/webinar-la-delta-wasp-40100-clay/
CATEGORIES:Webinar Fablab
ATTACH;FMTTYPE=image/png:https://www.lazioinnova.it/eventi/app/uploads/2021/03/fablab-1.png
END:VEVENT
END:VCALENDAR