BEGIN:VCALENDAR
VERSION:2.0
PRODID:-//Eventi - LazioInnova - ECPv6.3.6//NONSGML v1.0//EN
CALSCALE:GREGORIAN
METHOD:PUBLISH
X-ORIGINAL-URL:https://www.lazioinnova.it/eventi
X-WR-CALDESC:Eventi per Eventi - LazioInnova
REFRESH-INTERVAL;VALUE=DURATION:PT1H
X-Robots-Tag:noindex
X-PUBLISHED-TTL:PT1H
BEGIN:VTIMEZONE
TZID:Europe/Rome
BEGIN:DAYLIGHT
TZOFFSETFROM:+0100
TZOFFSETTO:+0200
TZNAME:CEST
DTSTART:20210328T010000
END:DAYLIGHT
BEGIN:STANDARD
TZOFFSETFROM:+0200
TZOFFSETTO:+0100
TZNAME:CET
DTSTART:20211031T010000
END:STANDARD
END:VTIMEZONE
BEGIN:VEVENT
DTSTART;TZID=Europe/Rome:20211222T170000
DTEND;TZID=Europe/Rome:20211222T180000
DTSTAMP:20260425T191612
CREATED:20211123T111100Z
LAST-MODIFIED:20211123T111100Z
UID:10001139-1640192400-1640196000@www.lazioinnova.it
SUMMARY:Webinar - Stampa a getto di inchiostro con tecnologia UV LED - CHIUSO
DESCRIPTION:Stampa a getto di inchiostro con tecnologia UV LED.\nIntroduzione alle funzionalità della Roland Lef 12-i.\n22 Dicembre 2021\n17.00-18.00
URL:https://www.lazioinnova.it/eventi/e/webinar-stampa-a-getto-di-inchiostro-con-tecnologia-uv-led/
CATEGORIES:Webinar Fablab
ATTACH;FMTTYPE=image/png:https://www.lazioinnova.it/eventi/app/uploads/2021/03/fablab-1.png
END:VEVENT
END:VCALENDAR