BEGIN:VCALENDAR
VERSION:2.0
PRODID:-//Eventi - LazioInnova - ECPv6.3.6//NONSGML v1.0//EN
CALSCALE:GREGORIAN
METHOD:PUBLISH
X-ORIGINAL-URL:https://www.lazioinnova.it/eventi
X-WR-CALDESC:Eventi per Eventi - LazioInnova
REFRESH-INTERVAL;VALUE=DURATION:PT1H
X-Robots-Tag:noindex
X-PUBLISHED-TTL:PT1H
BEGIN:VTIMEZONE
TZID:Europe/Rome
BEGIN:DAYLIGHT
TZOFFSETFROM:+0100
TZOFFSETTO:+0200
TZNAME:CEST
DTSTART:20230326T010000
END:DAYLIGHT
BEGIN:STANDARD
TZOFFSETFROM:+0200
TZOFFSETTO:+0100
TZNAME:CET
DTSTART:20231029T010000
END:STANDARD
END:VTIMEZONE
BEGIN:VEVENT
DTSTART;TZID=Europe/Rome:20231115T140000
DTEND;TZID=Europe/Rome:20231115T160000
DTSTAMP:20260425T025912
CREATED:20231031T120656Z
LAST-MODIFIED:20231103T155052Z
UID:10001697-1700056800-1700064000@www.lazioinnova.it
SUMMARY:Let's get visual: design\, grafica e comunicazione visuale ai tempi del digitale
DESCRIPTION:Incontro teorico e pratico sui seguenti argomenti: \n\nconcetto di brand identity come di combinazione di elementi visuali e testuali riconoscibili\nlista di tutti i supporti di comunicazione disponibili (testo\, immagine\, video\, audio)\, e i pro e i contro di ciascuno\nle opzioni disponibili: fare tutto in casa\, usare gli strumenti pret-a-porter come Canva\, affidarsi ad un designer\npresentazione di Canva\, breve introduzione a come utilizzarlo\nrealizzazione di una grafica per la propria attività\nreview della grafica\n\nÈ possibile partecipare all’evento in presenza\, presso lo Spazio Attivo LOIC di Zagarolo oppure online\, via Teams\, da una delle altre sedi Spazio Attivo della Regione Lazio (l’opzione scelta va specificata al momento dell’iscrizione). \n 
URL:https://www.lazioinnova.it/eventi/e/comunicazione-visuale/
CATEGORIES:Workshop
ATTACH;FMTTYPE=image/jpeg:https://www.lazioinnova.it/eventi/app/uploads/2023/10/1-comunicazione-digitale.jpg
END:VEVENT
BEGIN:VEVENT
DTSTART;TZID=Europe/Rome:20231122T140000
DTEND;TZID=Europe/Rome:20231122T160000
DTSTAMP:20260425T025912
CREATED:20231031T124252Z
LAST-MODIFIED:20231103T155204Z
UID:10001698-1700661600-1700668800@www.lazioinnova.it
SUMMARY:Non puoi non essere online: come realizzare un sito web che abbia senso per la propria attività
DESCRIPTION:Incontro teorico e pratico sui seguenti argomenti: \n\nchiedersi se ha senso avere un sito web o meno;\nlista di tutte le soluzioni tecnologiche disponibili (full code\, CMS\, SaaS)\, pro e contro di ciascuna;\nle opzioni disponibili: fare tutto in casa o affidarsi ad un developer;\npresentazione di Umso\, breve introduzione a come utilizzarlo;\nrealizzazione di una landing page per la propria attività;\nreview di una landing page.\n\nÈ possibile partecipare all’evento in presenza\, presso lo Spazio Attivo LOIC di Zagarolo oppure online\, via Teams\, da una delle altre sedi Spazio Attivo della Regione Lazio (l’opzione scelta va specificata al momento dell’iscrizione).
URL:https://www.lazioinnova.it/eventi/e/sito-web/
CATEGORIES:Workshop
ATTACH;FMTTYPE=image/png:https://www.lazioinnova.it/eventi/app/uploads/2023/10/2-Non-puoi-non-essere-online.png
END:VEVENT
BEGIN:VEVENT
DTSTART;TZID=Europe/Rome:20231129T140000
DTEND;TZID=Europe/Rome:20231129T160000
DTSTAMP:20260425T025912
CREATED:20231031T124744Z
LAST-MODIFIED:20231103T155354Z
UID:10001699-1701266400-1701273600@www.lazioinnova.it
SUMMARY:Social is the new real: avere una strategia social efficace per la propria attività
DESCRIPTION:Incontro teorico e pratico sui seguenti argomenti: \n\nchiedersi se ha senso avere i social;\nlista di tutti i social disponibili\, i pro e i contro di ciascuno;\nle opzioni disponibili: fare tutto in casa o affidarsi ad un marketer;\npresentazione di Meta Ads\, breve introduzione a come utilizzarlo;\nrealizzazione di una bozza di sponsorizzata per la propria attività;\nreview di una sponsorizzata.\n\nÈ possibile partecipare all’evento in presenza\, presso lo Spazio Attivo LOIC di Zagarolo oppure online\, via Teams\, da una delle altre sedi Spazio Attivo della Regione Lazio (l’opzione scelta va specificata al momento dell’iscrizione).
URL:https://www.lazioinnova.it/eventi/e/social/
CATEGORIES:Workshop
ATTACH;FMTTYPE=image/jpeg:https://www.lazioinnova.it/eventi/app/uploads/2023/10/3-social-network.jpg
END:VEVENT
END:VCALENDAR