BEGIN:VCALENDAR
VERSION:2.0
PRODID:-//Eventi - LazioInnova - ECPv6.3.6//NONSGML v1.0//EN
CALSCALE:GREGORIAN
METHOD:PUBLISH
X-ORIGINAL-URL:https://www.lazioinnova.it/eventi
X-WR-CALDESC:Eventi per Eventi - LazioInnova
REFRESH-INTERVAL;VALUE=DURATION:PT1H
X-Robots-Tag:noindex
X-PUBLISHED-TTL:PT1H
BEGIN:VTIMEZONE
TZID:Europe/Rome
BEGIN:DAYLIGHT
TZOFFSETFROM:+0100
TZOFFSETTO:+0200
TZNAME:CEST
DTSTART:20210328T010000
END:DAYLIGHT
BEGIN:STANDARD
TZOFFSETFROM:+0200
TZOFFSETTO:+0100
TZNAME:CET
DTSTART:20211031T010000
END:STANDARD
END:VTIMEZONE
BEGIN:VEVENT
DTSTART;TZID=Europe/Rome:20211117T163000
DTEND;TZID=Europe/Rome:20211117T173000
DTSTAMP:20260423T163551
CREATED:20211020T141851Z
LAST-MODIFIED:20211020T141851Z
UID:10001112-1637166600-1637170200@www.lazioinnova.it
SUMMARY:Soft Skills per startupper...e non solo. REGISTRAZIONI CHIUSE
DESCRIPTION:Mercoledì 17 novembre ore 16.30\nZAGTALK dedicato alle soft skill\nTitolo del Talk: “Soft skills per startupper…e non solo”\nOspiti del talk saranno: \n\nAgostino Marengo\, docente universitario UniBa e founder di eLearning Osel\nAlessandro Gian Maria Ferri\, founder di Edicole 100&\n\nDa qui a 5 anni\, metà dell’intera forza lavoro dovrà mettere in conto un processo di adeguamento delle proprie competenze (skill) per riuscire a tenere il passo e rimanere competitiva in un mercato che sta subendo una trasformazione senza precedenti. Da qui le nuove forme di impiego e nuove competenze da acquisire. Alcuni la chiamano “rivoluzione digitale”\, Agostino Marengo la chiama “evoluzione aggressiva” o “rush evolution”. Un’evoluzione inevitabile\, velocizzata e portata all’estremo dall’innovazione tecnologica e digitale\, che si ripercuote sulle nostre vite e sulla nostra professionalità.\nA confermare certi percorsi di evoluzione\, professionale e non\, sarà l’esperienza e il racconto di Alessandro Gian Maria Ferri\, fondatore di Edicole100&.\nModerano:\nBerenice Marisei – Coordinatrice Spazio Attivo Zagarolo\nMaria Angela Ilari – Coordinatrice Spazio Attivo Roma\nPer partecipare all’incontro\, registratevi all’evento; successivamente vi sarà inviata dagli organizzatori una mail con il link per accedere al webinar.\nL’appuntamento è aperto a tutti e avrà la durata di un’ora circa.
URL:https://www.lazioinnova.it/eventi/e/soft-skills-per-startupper-e-non-solo/
CATEGORIES:ZagTalk
ATTACH;FMTTYPE=image/png:https://www.lazioinnova.it/eventi/app/uploads/2021/05/Facebook-ZagTalk.png
END:VEVENT
BEGIN:VEVENT
DTSTART;TZID=Europe/Rome:20211110T163000
DTEND;TZID=Europe/Rome:20211110T173000
DTSTAMP:20260423T163551
CREATED:20211020T140036Z
LAST-MODIFIED:20211020T140036Z
UID:10001111-1636561800-1636565400@www.lazioinnova.it
SUMMARY:Intelligenza artificiale e nuove tecnologie per la sanità REGISTRAZIONI CHIUSE
DESCRIPTION:Mercoledì 10 novembre ore 16.30\nZAGTALK dedicato alla intelligenza artificiale e sanità\nTitolo del Talk: “Intelligenza artificiale e nuove tecnologie per la sanità”\nOspiti del talk saranno:\nMarco Flavio Michele Vismara\, CEO & Founder di LightScience\nMarcello Pediconi\, CEO & Founder di Auendo\n \nL’Intelligenza Artificiale (AI) nel comparto medico sta completamente ridefinendo modalità e tempistiche dell’assistenza sanitaria. Adesso è possibile aspirare alla realizzazione di una sanità digitale sfruttando tecnologie e architetture informatiche che permettono di eseguire compiti con prestazioni paragonabili (a volte anche superiori) all’esperienza dell’intelligenza umana.\nLightScience sta sviluppando strumenti che\, da una goccia di sangue o di qualunque altro fluido biologico\, possono fornire risultati analitici affidabili per un’ampia gamma di esami di laboratorio.\nAuendo adotta invece una tecnologia in grado acquisire\, connettere e standardizzare i dati generati da centinaia di modelli di dispositivi medici ed app utilizzati in ambito domiciliare\, in mobilità ed in ambulatorio.\n \nModerano:\nBerenice Marisei –Coordinatrice Spazio Attivo Zagarolo\nPer partecipare all’incontro\, registratevi all’evento; successivamente vi sarà inviata dagli organizzatori una mail con il link per accedere al webinar.\nL’appuntamento è aperto a tutti e avrà la durata di un’ora circa.\n 
URL:https://www.lazioinnova.it/eventi/e/intelligenza-artificiale-e-nuove-tecnologie-per-la-sanita/
CATEGORIES:ZagTalk
ATTACH;FMTTYPE=image/png:https://www.lazioinnova.it/eventi/app/uploads/2021/05/Facebook-ZagTalk.png
END:VEVENT
BEGIN:VEVENT
DTSTART;TZID=Europe/Rome:20211027T163000
DTEND;TZID=Europe/Rome:20211027T173000
DTSTAMP:20260423T163551
CREATED:20210929T133619Z
LAST-MODIFIED:20210929T133619Z
UID:10001105-1635352200-1635355800@www.lazioinnova.it
SUMMARY:ZAGTALK  “Competenze digitali e impatto sociale.”REGISTRAZIONI CHIUSE
DESCRIPTION: \nMercoledì 27 ottobre ore 16.30\nZAGTALK  “Competenze digitali e impatto sociale.”\nOspiti del talk saranno: \n\nMarco Planzi\, P4I – Partners4Innovation\nEnrico Maria Tomassi\, Klabco \n\nL’Italia negli ultimi anni vive un paradosso: i dati rilevati nel 2017 segnavano il 35% di disoccupazione giovanile e 100.000 posti di lavoro vacanti nel digitale. Secondo questi dati (fonti: ISTAT e Google) confermano l’analisi di Adecco\, azienda leader nella selezione del personale\, secondo cui la metà dei giovani disoccupati non trova lavoro a causa del mancato incontro tra domanda e offerta. Questa tendenza non accenna a diminuire.\nCon i nostri due ospiti cercheremo di capirne i motivi e l’impatto a livello sociale se il processo di digitalizzazione continuasse nel nostro Paese con questo ritardo.\n \nModera:\nAdriana Calì – Spazio Attivo Zagarolo\nEleonora De Risi – Responsabile Spazio Attivo Civitavecchia\n \nPer partecipare all’incontro\, registratevi all’evento; successivamente vi sarà inviata dagli organizzatori una mail con il link per accedere al webinar.\nL’appuntamento è aperto a tutti e avrà la durata di un’ora circa.
URL:https://www.lazioinnova.it/eventi/e/zagtalk-competenze-digitali-e-impatto-sociale/
CATEGORIES:ZagTalk
ATTACH;FMTTYPE=image/png:https://www.lazioinnova.it/eventi/app/uploads/2021/05/Facebook-ZagTalk.png
END:VEVENT
BEGIN:VEVENT
DTSTART;TZID=Europe/Rome:20211020T163000
DTEND;TZID=Europe/Rome:20211020T173000
DTSTAMP:20260423T163551
CREATED:20210929T132322Z
LAST-MODIFIED:20210929T132322Z
UID:10001104-1634747400-1634751000@www.lazioinnova.it
SUMMARY:ZAGTALK “Le opportunità dell’ecosistema digitale cinese” REGISTRAZIONI CHIUSE
DESCRIPTION:Mercoledì 20 ottobre ore 16.30\nZAGTALK “Le opportunità dell’ecosistema digitale cinese”\nOspiti del talk saranno: \n\nFederico Lettieri\, Account Manager & PR – Triboo East Media\nRiccardo Rubbiani\, Sell In-To China\n\nIl mercato cinese rappresenta per molte aziende un’invitante opportunità di investimento e crescita. Per raggiungere dei risultati\, però\, bisogna conoscerne a fondo le dinamiche e le peculiarità: ogni strategia di marketing e comunicazione deve essere studiata ad hoc\, tenendo conto dell’approccio al digitale totalmente diverso dal nostro\, ma anche dei fattori socio-culturali.\nEast Media\, e Sell-in-to-China rappresentano due realtà interculturali pronte a supportare le aziende nel complesso processo di internazionalizzazione sul mercato cinese.\nModerano:\nAdriana Calì – Spazio Attivo Zagarolo\nMariangela Ilari – Responsabile Spazio Attivo Roma\n \nPer partecipare all’incontro\, registratevi all’evento; successivamente vi sarà inviata dagli organizzatori una mail con il link per accedere al webinar.\nL’appuntamento è aperto a tutti e avrà la durata di un’ora circa.
URL:https://www.lazioinnova.it/eventi/e/zagtalk-le-opportunita-dellecosistema-digitale-cinese/
CATEGORIES:ZagTalk
ATTACH;FMTTYPE=image/png:https://www.lazioinnova.it/eventi/app/uploads/2021/05/Facebook-ZagTalk.png
END:VEVENT
BEGIN:VEVENT
DTSTART;TZID=Europe/Rome:20211013T163000
DTEND;TZID=Europe/Rome:20211013T173000
DTSTAMP:20260423T163551
CREATED:20210929T130924Z
LAST-MODIFIED:20210929T130924Z
UID:10001102-1634142600-1634146200@www.lazioinnova.it
SUMMARY:ZAGTALK : “Crowdfunding. Quali opportunità per le startup?” REGISTRAZIONI CHIUSE
DESCRIPTION:Mercoledì 13 ottobre ore 16.30\nZAGTALK : “Crowdfunding. Quali opportunità per le startup?”\nOspiti del talk saranno: \n\nSilvia Favulli\, Business Owner presso Equity Crowdfunding News\nMatteo Masserdotti\, CEO & Founder di Two Hundred\n\nL’equity crowdfunding in Italia è cresciuta incredibilmente negli ultimi anni arrivando a raccogliere nel 2019 oltre 49 milioni\, con 170 campagne censite e un tasso di successo del 75% nei primi 6 mesi. Questa crescita\, favorita anche dall’adeguamento delle normative in materia\, testimonia anche un ampliamento del pubblico interessato a queste nuove e straordinarie opportunità di investimento e di crescita.\nCon i due ospiti capiremo meglio come districarsi nel mondo del crowdfunding per scoprirne le opportunità concrete.\nModerano:\nAdriana Calì – Spazio Attivo Zagarolo\nMassimo Antonucci – Tutor di impresa Spazio Attivo Latina\n \nPer partecipare all’incontro\, registratevi all’evento; successivamente vi sarà inviata dagli organizzatori una mail con il link per accedere al webinar.\nL’appuntamento è aperto a tutti e avrà la durata di un’ora circa.
URL:https://www.lazioinnova.it/eventi/e/zagtalk-crowdfunding-quali-opportunita-per-le-startup/
CATEGORIES:ZagTalk
ATTACH;FMTTYPE=image/png:https://www.lazioinnova.it/eventi/app/uploads/2021/05/Facebook-ZagTalk.png
END:VEVENT
BEGIN:VEVENT
DTSTART;TZID=Europe/Rome:20211006T163000
DTEND;TZID=Europe/Rome:20211006T173000
DTSTAMP:20260423T163551
CREATED:20210929T130237Z
LAST-MODIFIED:20210929T130237Z
UID:10001382-1633537800-1633541400@www.lazioinnova.it
SUMMARY:ZAGTALK  “Cercare lavoro\, raccontandosi.” REGISTRAZIONI CHIUSE
DESCRIPTION:Mercoledì 6 ottobre ore 16.30\nZAGTALK  “Cercare lavoro\, raccontandosi.”.\nOspiti del talk saranno: \n\nGabriele Giugliano\, CEO & Cofounder di Tutored\nGuglielmo Giuggioli\, Founder & CEO Speechannel\n\nTutored è una startup fondata nel 2014 da Gabriele Giugliano e rappresenta una realtà ormai consolidata e punto di riferimento per gli studenti universitari italiani (e non solo) che cercano lavoro. Sono circa 6.000 le candidature di lavoro mensili inoltrate usando la piattaforma e\, negli ultimi due anni\, oltre 2.500 talenti hanno trovato lavoro grazie a Tutored.\nAnche per le aziende la piattaforma offre tanti vantaggi. Il primo è quello di curare l’employment brand\, cioè la capacità dell’impresa di far conoscere dai ragazzi il proprio modo di lavorare\, il secondo è quello di essere aiutati a fare recruiting di talenti.\nNe parleremo con Guglielmo Giuggioli\, creatore della piattaforma Speechannel.\nModerano:\nAdriana Calì – Spazio Attivo Zagarolo\nFrancesca Fortuna – Tutor di impresa Spazio Attivo Rieti\n \nPer partecipare all’incontro\, registratevi all’evento; successivamente vi sarà inviata dagli organizzatori una mail con il link per accedere al webinar.\nL’appuntamento è aperto a tutti e avrà la durata di un’ora circa.
URL:https://www.lazioinnova.it/eventi/e/zagtalk-cercare-lavoro-raccontandosi/
CATEGORIES:ZagTalk
ATTACH;FMTTYPE=image/png:https://www.lazioinnova.it/eventi/app/uploads/2021/05/Facebook-ZagTalk.png
END:VEVENT
BEGIN:VEVENT
DTSTART;TZID=Europe/Rome:20210929T163000
DTEND;TZID=Europe/Rome:20210929T173000
DTSTAMP:20260423T163551
CREATED:20210902T151237Z
LAST-MODIFIED:20210902T151237Z
UID:10001371-1632933000-1632936600@www.lazioinnova.it
SUMMARY:ZAGTALK - Economia circolare e made in Italy - ISCRIZIONI CHIUSE
DESCRIPTION:Mercoledì 29 settembre ore 16.30\nEconomia circolare e made in Italy\nIl webinar ha la finalità di raccontare l’esperienza di Orange Fiber\, azienda siciliana che ha avuto origine da un nucleo composto da due startupper donne.\nL’idea è nata dalla conoscenza di tessuti sostenibili e dall’intuizione di poter utilizzare gli agrumi per creare un tessuto innovativo. Grazie alla collaborazione con il laboratorio di Chimica dei Materiali del Politecnico di Milano\, nel 2013 è stata provata la fattibilità del processo e depositato il brevetto italiano\, esteso poi in PCT internazionale nel 2014.\nNonostante il limite dovuto alla bassa propensione da parte degli investitori a scommettere in sviluppo della tecnologia\, Orange Fiber è riuscita a raggiungere il mercato nei primi 3 anni di vita della startup con il lancio della Ferragamo Orange Fiber Collection avvenuto il 22 aprile 2017\, in occasione della Giornata internazionale della Terra.\nL’ospite del talk è l’imprenditrice Enrica Arena\, CMO e Co-Founder di Orange Fiber.\nAd affiancarla ci sarà Flavia Seno\, founder and CEO di Spesabus\n \nModerano:\n \nBerenice Marisei – Coordinatrice Spazio Attivo Zagarolo\nLaura Ciarini – Tutor d’impresa Spazio Attivo Rieti\nPer partecipare all’incontro\, registratevi all’evento; successivamente vi sarà inviata dagli organizzatori una mail con il link per accedere al webinar.\nL’appuntamento è aperto a tutti e avrà la durata di un’ora circa.”\n \n 
URL:https://www.lazioinnova.it/eventi/e/13093/
CATEGORIES:ZagTalk
ATTACH;FMTTYPE=image/png:https://www.lazioinnova.it/eventi/app/uploads/2021/05/Facebook-ZagTalk.png
END:VEVENT
BEGIN:VEVENT
DTSTART;TZID=Europe/Rome:20210922T163000
DTEND;TZID=Europe/Rome:20210922T173000
DTSTAMP:20260423T163551
CREATED:20210902T143727Z
LAST-MODIFIED:20210902T143727Z
UID:10001370-1632328200-1632331800@www.lazioinnova.it
SUMMARY:ZAGTALK-Influencer che passione! REGISTRAZIONI CHIUSE
DESCRIPTION:Mercoledì 22 settembre ore 16.30\nZAGTALK dedicato ai social media e alla figura degli “influencer”\nTitolo del Talk: “Influencer che passione!”\nOspite del talk sarà:\n– Vincenzo Cosenza\, Chief Marketing Officer di Buzzoole\nL’ospite di questo Talk è Vincenzo Cosenza è Chief Marketing Officer di Buzzoole\, classe 1973\, laurea in Economia e Commercio e un Master in Management dell’Innovazione alla Scuola Superiore Sant’Anna di Pisa. Alle spalle ha una profonda conoscenza in tema di analisi delle conversazioni in rete e delle interazioni sui social media. È sua la creazione di Buzzoole\, una piattaforma di Influencer marketing che sfrutta l’intelligenza artificiale per connettere Brand e Content Creator\, al secolo conosciuti come “Influencer” e cioè persone capaci di produrre contenuti di valore attraverso l’uso dei social network\, esercitando un grado di influenza rilevante sui propri follower.\nModera:\nBerenice Marisei – Coordinatrice Spazio Attivo Zagarolo\nPer partecipare all’incontro\, registratevi all’evento; successivamente vi sarà inviata dagli organizzatori una mail con il link per accedere al webinar.\nL’appuntamento è aperto a tutti e avrà la durata di un’ora circa.
URL:https://www.lazioinnova.it/eventi/e/zagtalk-influencer-che-passione/
LOCATION:Lazio Innova S.p.a.\, Via Marco Aurelio 26/a\, Roma\, 00184\, Italia
CATEGORIES:ZagTalk
ATTACH;FMTTYPE=image/png:https://www.lazioinnova.it/eventi/app/uploads/2021/05/Facebook-ZagTalk.png
END:VEVENT
BEGIN:VEVENT
DTSTART;TZID=Europe/Rome:20210915T163000
DTEND;TZID=Europe/Rome:20210915T173000
DTSTAMP:20260423T163551
CREATED:20210903T143916Z
LAST-MODIFIED:20210903T143916Z
UID:10001372-1631723400-1631727000@www.lazioinnova.it
SUMMARY:ZAGTALK - Guardare oltre confine. Gli USA sono (ancora) un’opportunità per le startup italiane.” REGISTRAZIONI CHIUSE
DESCRIPTION:Mercoledì 15 settembre ore 16.30\n \nZAGTALK dedicato alla internazionalizzazione.\n \nTitolo del Talk: “Guardare oltre confine. Gli USA sono (ancora) un’opportunità per le startup italiane.”.\nOspiti del talk saranno: \n\nSebastiano Peluso\, consulente\, founder startup\, e confonder dell’associazione 3040\nGiorgio Cucè\, Founder & CEO of Seares Srl\n\nÈ di qualche mese fa la notizIa pubblicata sul sito del Ministero Affari Esteri della startup italiana Evidation Health\, con base a Santa Barbara (California del Sud) che ha raggiunto l’ambito status di “Unicorno” raggiungendo un valore superiore al miliardo di dollari.\nUna “Unicorn Startup” è un’azienda che raggiunge la valutazione di 1 miliardo di dollari in un periodo relativamente breve dalla sua fondazione.\nDi queste realtà ne parleremo con Sebastiano Peluso\, esperto in business development e co-founder di numerose startup.\n \nModerano:\nFederico Corrà – Beecome\nBerenice Marisei – Responsabile Spazio Attivo Zagarolo\n \nPer partecipare all’incontro\, registratevi all’evento; successivamente vi sarà inviata dagli organizzatori una mail con il link per accedere al webinar.\nL’appuntamento è aperto a tutti e avrà la durata di un’ora circa.\n 
URL:https://www.lazioinnova.it/eventi/e/zagtalk-guardare-oltre-confine-gli-usa-sono-ancora-unopportunita-per-le-startup-italiane/
CATEGORIES:ZagTalk
ATTACH;FMTTYPE=image/png:https://www.lazioinnova.it/eventi/app/uploads/2021/05/Facebook-ZagTalk.png
END:VEVENT
END:VCALENDAR