BEGIN:VCALENDAR
VERSION:2.0
PRODID:-//Eventi - LazioInnova - ECPv6.3.6//NONSGML v1.0//EN
CALSCALE:GREGORIAN
METHOD:PUBLISH
X-ORIGINAL-URL:https://www.lazioinnova.it/eventi
X-WR-CALDESC:Eventi per Eventi - LazioInnova
REFRESH-INTERVAL;VALUE=DURATION:PT1H
X-Robots-Tag:noindex
X-PUBLISHED-TTL:PT1H
BEGIN:VTIMEZONE
TZID:Europe/Rome
BEGIN:DAYLIGHT
TZOFFSETFROM:+0100
TZOFFSETTO:+0200
TZNAME:CEST
DTSTART:20240331T010000
END:DAYLIGHT
BEGIN:STANDARD
TZOFFSETFROM:+0200
TZOFFSETTO:+0100
TZNAME:CET
DTSTART:20241027T010000
END:STANDARD
END:VTIMEZONE
BEGIN:VEVENT
DTSTART;TZID=Europe/Rome:20241204T090000
DTEND;TZID=Europe/Rome:20241208T210000
DTSTAMP:20260423T072046
CREATED:20241106T094518Z
LAST-MODIFIED:20250528T135011Z
UID:10001904-1733302800-1733691600@www.lazioinnova.it
SUMMARY:Più Libri Più Liberi 2024
DESCRIPTION:La Regione Lazio\, attraverso il soggetto attuatore Lazio Innova\, e la Camera di Commercio di Roma\, con il supporto dell’Azienda Speciale Sviluppo e Territorio\, nell’ambito della Convenzione per la partecipazione congiunta a iniziative e manifestazioni fieristiche\, allo scopo di sostenere il tessuto economico regionale\, promuovono la partecipazione a Più Libri Più Liberi – Fiera Nazionale della Piccola e Media Editoria\, che si svolgerà dal 4 all’8 dicembre 2024 presso il Centro Congressi La Nuvola dove è intenzione degli Enti promotori organizzare uno spazio espositivo per ospitare gratuitamente fino a n. 12 imprese rappresentative della filiera dell’editoria del Lazio. \nLa partecipazione di n. 1 di queste è sostenuta con il contributo del PR FESR Lazio 2021-2027. \nMaggiori informazioni QUI\nCandidature online entro le ore 11.00 del 15 novembre\n  \n 
URL:https://www.lazioinnova.it/eventi/e/piu-libri-piu-liberi-2024/
LOCATION:La Nuvola Roma Convention Centre\, Viale Asia 40\, Roma\, Italia
CATEGORIES:Internazionalizzazione,PR FESR Lazio 2021-2027
ATTACH;FMTTYPE=image/png:https://www.lazioinnova.it/eventi/app/uploads/2024/11/piu-libri-piu-liberi-2024-1024x577-1.png
END:VEVENT
BEGIN:VEVENT
DTSTART;TZID=Europe/Rome:20241204T130000
DTEND;TZID=Europe/Rome:20241204T140000
DTSTAMP:20260423T072046
CREATED:20241129T141508Z
LAST-MODIFIED:20250107T122940Z
UID:10001917-1733317200-1733320800@www.lazioinnova.it
SUMMARY:Cuori narranti - Concorso letterario per giovani autori under 35 - ISCRIZIONI CHIUSE
DESCRIPTION:4 dicembre ore 13.00 \nPiù libri più liberi \nLa Nuvola – Sala Luna Viale Asia 25 – Roma \nPresentazione Cuori narranti – concorso letterario della Regione Lazio per giovani autori under 35 \nIntervengono: \nSimona Baldassarre Assessore alla Cultura\, Pari Opportunità\, Politiche giovanili e della famiglia\, Servizio Civile Regione Lazio \nFabio Del Giudice Direttore Più libri più liberi \nSilvio Viale Presidente del Salone Internazionale del Libro di Torino \nValentina Farinaccio Scrittrice \nModeratore: Alessio Postiglione  \n  \nPer accedere alla fiera occorre registrarsi all’evento e recarsi alla cassa accrediti omaggio.\nSi comunica che questo è un evento di pubblico interesse\, pertanto l’area in cui si svolge sarà soggetta a riprese fotografiche e audio-video.\nPer maggiori info consultare l’Informativa sul Trattamento dei Dati Personali
URL:https://www.lazioinnova.it/eventi/e/cuori-narranti/
LOCATION:Centro Congressi Roma La Nuvola\, Viale Asia\, 40 /44\, Roma\, RM\, 00144\, Italia
ATTACH;FMTTYPE=image/jpeg:https://www.lazioinnova.it/eventi/app/uploads/2024/11/RL.Cuori-Narranti-Social-LINK.jpg
END:VEVENT
BEGIN:VEVENT
DTSTART;TZID=Europe/Rome:20241204T143000
DTEND;TZID=Europe/Rome:20241204T163000
DTSTAMP:20260423T072046
CREATED:20241129T134712Z
LAST-MODIFIED:20250528T135035Z
UID:10001918-1733322600-1733329800@www.lazioinnova.it
SUMMARY:Digital Meeting sul nuovo Avviso Pubblico per la Blue Economy
DESCRIPTION:Il 4 dicembre 2024 alle ore 14.30 verrà presentato l’Avviso pubblico finalizzato ad acquisire la manifestazione di interesse a favore dei 24 comuni costieri del Lazio per presentare una proposta progettuale per la promozione dello sviluppo economico sostenibile nei settori della Blue Economy. \nL’incontro è rivolto a tutti i comuni costieri\, Startup\, PMI e Organismi di Ricerca. \nLa dotazione finanziaria è per complessivi 2.500.000 € \nQUI maggiori informazioni\nRegistrazione online\nA tutti coloro che si registreranno\, verrà inviata un’e-mail con il link di accesso al Digital Meeting.
URL:https://www.lazioinnova.it/eventi/e/digital-meeting-sul-nuovo-avviso-pubblico-per-la-blue-economy/
CATEGORIES:Community degli Innovatori
ATTACH;FMTTYPE=image/jpeg:https://www.lazioinnova.it/eventi/app/uploads/2024/11/Banner-2024_12_04-Presentazione-Bando-Blue-Economy-1.jpg
END:VEVENT
BEGIN:VEVENT
DTSTART;TZID=Europe/Rome:20241205T103000
DTEND;TZID=Europe/Rome:20241205T123000
DTSTAMP:20260423T072046
CREATED:20240726T141625Z
LAST-MODIFIED:20241203T110254Z
UID:10001833-1733394600-1733401800@www.lazioinnova.it
SUMMARY:Startup Storming – proponi la tua idea - ISCRIZIONI CHIUSE
DESCRIPTION:Startup Storming – proponi la tua idea \nGiovedì  5 Dicembre 10.30-12.30 \n  \n“Incontro di approfondimento in cui potrai descrivere il tuo progetto di impresa e/o indicare una specifica esigenza. Nel corso dell’incontro\, inoltre\, ti verranno illustrati i servizi Spazio Attivo Lazio Innova e definito il percorso di accompagnamento più adatto.\nPer prenotarsi occorre registrarsi a questo evento. Solo successivamente ti sarà inviata dagli organizzatori una mail con il link per accedere alla sessione. \nIl numero massimo dei partecipanti 12
URL:https://www.lazioinnova.it/eventi/e/startup-storming-proponi-la-tua-idea-88/
CATEGORIES:Startup Storming
ATTACH;FMTTYPE=image/png:https://www.lazioinnova.it/eventi/app/uploads/2020/04/startup-storming-OK.png
END:VEVENT
BEGIN:VEVENT
DTSTART;TZID=Europe/Rome:20241205T170000
DTEND;TZID=Europe/Rome:20241205T190000
DTSTAMP:20260423T072046
CREATED:20241129T135335Z
LAST-MODIFIED:20250528T135108Z
UID:10001919-1733418000-1733425200@www.lazioinnova.it
SUMMARY:Incontro di aggiornamento sui temi delle bioscienze
DESCRIPTION:Il 5 dicembre alle ore 17:00\, si svolgerà a Lazio Innova\, via Marco Aurelio 26-A\, un incontro di aggiornamento sui temi delle bioscienze. \nUn’occasione nella per aggiornarsi su progetti in corso e futuri\, valutare possibili collaborazioni con altre imprese ed essere aggiornati da esperti di Lazio Innova sulle opportunità di bandi\, programmi di internazionalizzazione e altre attività. \nPer il programma clicca qui \n 
URL:https://www.lazioinnova.it/eventi/e/incontro-di-aggiornamento-sui-temi-delle-bioscienze/
LOCATION:Lazio Innova\, Via Marco Aurelio 26/A\, Roma\, 00184\, Italia
CATEGORIES:Community degli Innovatori,Internazionalizzazione
ATTACH;FMTTYPE=image/png:https://www.lazioinnova.it/eventi/app/uploads/2024/11/bioscienze.png
END:VEVENT
BEGIN:VEVENT
DTSTART;TZID=Europe/Rome:20241209T110000
DTEND;TZID=Europe/Rome:20241209T130000
DTSTAMP:20260423T072046
CREATED:20241203T150604Z
LAST-MODIFIED:20250729T092240Z
UID:10001920-1733742000-1733749200@www.lazioinnova.it
SUMMARY:Le aziende del Lazio verso Expo 2025: presentazione del voucher - ISCRIZIONI CHIUSE
DESCRIPTION:Lunedì 9 dicembre ore 11.00 \nSala consiliare Comune di Pomezia Piazza Indipendenza\, 8 \nVeronica Felici Sindaco di Pomezia \nRoberta Angelilli Vicepresidente e Assessore allo Sviluppo economico\, Commercio\, Artigianato\, Industria\, Internazionalizzazione – Regione Lazio \nAntonino Laspina  Assessore alle Attività Produttive e Internazionalizzazione – Comune di Pomezia \nTiziana Vona Presidente di Area comprensoriale di Aprilia – Unindustria \nLorenzo Tagliavanti Presidente Camera di Commercio di Roma \nMassimo Tabacchiera Presidente Confapi Lazio \n  \nCoordina \nFrancesco Marcolini Presidente Lazio Innova \n  \nSi comunica che questo è un evento di pubblico interesse\, pertanto l’area in cui si svolge sarà soggetta a riprese fotografiche e audio-video.\nPer maggiori info consultare l’Informativa sul Trattamento dei Dati Personali\nLa partecipazione della Regione Lazio a Expo 2025 Osaka è stata sostenuta dal PR FSE+ e dal PR FESR Lazio 2021–2027
URL:https://www.lazioinnova.it/eventi/e/le-aziende-del-lazio-verso-expo-2025-presentazione-del-voucher/
LOCATION:Sala consiliare Comune di Pomezia\, Piazza Indipendenza\, 8\, Pomezia\, 00071
ATTACH;FMTTYPE=image/jpeg:https://www.lazioinnova.it/eventi/app/uploads/2024/12/RL.Social_Expo25_FB.jpg
END:VEVENT
BEGIN:VEVENT
DTSTART;TZID=Europe/Rome:20241211T120000
DTEND;TZID=Europe/Rome:20241211T133000
DTSTAMP:20260423T072046
CREATED:20241129T152958Z
LAST-MODIFIED:20250729T091946Z
UID:10001921-1733918400-1733923800@www.lazioinnova.it
SUMMARY:Voucher Internazionalizzazione PMI - ISCRIZIONI CHIUSE
DESCRIPTION:Mercoledì 11 dicembre ore 12.00  \nRegione Lazio Sala Tevere (Via C. Colombo 212) \nIntervengono \nRoberta Angelilli Vicepresidente e Assessore  Sviluppo economico\, Commercio\, Artigianato\, Industria\, Internazionalizzazione – Regione Lazio \nGiorgio Klinger Delegato per Export e Tutela del Made in Italy di Unindustria \nFabrizio Lobasso Direttore Centrale per l’Internazionalizzazione Economica – Ministero degli Affari Esteri e della Cooperazione Internazionale \nCoordina \nFrancesco Marcolini Presidente Lazio Innova \n  \nSi comunica che questo è un evento di pubblico interesse\, pertanto l’area in cui si svolge sarà soggetta a riprese fotografiche e audio-video.\nPer maggiori info consultare l’Informativa sul Trattamento dei Dati Personali\nL’iniziativa è realizzata con il cofinanziamento dell’Unione europea attraverso i fondi del PR FESR Lazio 2021-2027 \n  \n 
URL:https://www.lazioinnova.it/eventi/e/voucher-pmi/
LOCATION:Regione Lazio – Sala Tevere\, Via Cristoforo Colombo 212\, Roma\, 00154\, Italia
CATEGORIES:Evento Regione,Internazionalizzazione
ATTACH;FMTTYPE=image/png:https://www.lazioinnova.it/eventi/app/uploads/2024/11/RL_STD_Internazionalizzazione_PMI-05.png
END:VEVENT
BEGIN:VEVENT
DTSTART;TZID=Europe/Rome:20241211T173000
DTEND;TZID=Europe/Rome:20241211T183000
DTSTAMP:20260423T072046
CREATED:20241107T081640Z
LAST-MODIFIED:20241211T151625Z
UID:10001906-1733938200-1733941800@www.lazioinnova.it
SUMMARY:Seminario formativo: Raggiungi il compromesso attraverso la negoziazione - ISCRIZIONI CHIUSE
DESCRIPTION:Mercoledì 11 dicembre Spazio Attivo Latina  ore 17.30  \nSeminario formativo: Raggiungi il compromesso attraverso la negoziazione  \ncon la partecipazione di EXO LATINA Associazione Giovanile \n  \n 
URL:https://www.lazioinnova.it/eventi/e/seminario-formativo-latina/
LOCATION:Spazio Attivo Latina\, Via Carlo Alberto\, 22\, Latina\, LT\, 04100\, Italia
ATTACH;FMTTYPE=image/jpeg:https://www.lazioinnova.it/eventi/app/uploads/2024/11/seminario-negoziazione.jpg
END:VEVENT
BEGIN:VEVENT
DTSTART;TZID=Europe/Rome:20241212T150000
DTEND;TZID=Europe/Rome:20241212T161500
DTSTAMP:20260423T072046
CREATED:20241113T102232Z
LAST-MODIFIED:20241212T121734Z
UID:10001911-1734015600-1734020100@www.lazioinnova.it
SUMMARY:INNOVATION TALK: AI\, creatività e diritto d’autore -ISCRIZIONI CHIUSE
DESCRIPTION:  \ngiovedì 12 dicembre alle ore 15.00 – Spazio Attivo Roma Casilina | via Casilina 3T | 00182 ROMA \nINNOVATION TALK: AI\, CREATIVITA’ E DIRITTO D’AUTORE \nSaranno analizzati i delicatissimi rapporti tra IA e creatività al tempo dell’IA generativa: sfide sociali e giuridiche\, identificazione del concetto di autore\, di creatività e originalità all’epoca dell’IA con l’analisi di casi pratici che faranno giurisprudenza in USA\, Europa e Cina. Inoltre\, cenni all’AI ACT\, primo Regolamento europeo e mondiale di normazione organica del fenomeno dell’IA\, e al DDL 1066 che cerca di aggiungere un tocco di propositività alla regolamentazione europea\, gettando le basi per una profonda revisione in Italia del sistema di investimenti e promozione delle attività imprenditoriali nel settore. \nRelatore: L’Avv. Vieri Canepele opera dal 2006 nel settore della tutela dei diritti di proprietà intellettuale\, quali marchi\, brevetti e copyright. Affianca aziende nazionali e internazionali nello sviluppo della migliore strategia di deposito marchi e brevettazione e nello sfruttamento a livello contrattuale degli stessi\, fino alla tutela in giudizio.  È mediatore civile e commerciale\, attualmente collabora con lo studio Bugnion\, società di servizi attiva nel settore del deposito\, tutela e promozione dei diritti di p.i. quali marchi\, brevetti per invenzione\, design e diritto d’autore. \n  \nModalità:  sia in presenza che da remoto tramite piattaforma microsoft teams \n 
URL:https://www.lazioinnova.it/eventi/e/ai-creativita-e-diritto-autore/
LOCATION:Spazio Attivo Roma Casilina\, Spazio Attivo Roma Casilina\, Roma\, 00182\, Italia
ATTACH;FMTTYPE=image/jpeg:https://www.lazioinnova.it/eventi/app/uploads/2024/11/innovation-talk-scaled.jpg
END:VEVENT
BEGIN:VEVENT
DTSTART;TZID=Europe/Rome:20241216T093000
DTEND;TZID=Europe/Rome:20241218T200000
DTSTAMP:20260423T072046
CREATED:20241115T104420Z
LAST-MODIFIED:20250528T135204Z
UID:10001913-1734341400-1734552000@www.lazioinnova.it
SUMMARY:NSE – New Space Economy European Expoforum 2024
DESCRIPTION:La Regione Lazio\, attraverso il soggetto attuatore Lazio Innova\, e la Camera di Commercio di Roma\, per il tramite del soggetto attuatore Azienda Speciale Sviluppo e Territorio\, nell’ambito della Convenzione per la partecipazione congiunta a manifestazioni fieristiche selezionano 27 PMI del Lazio per la partecipazione a NSE – New Space Economy European Expoforum 2024\, in programma presso la Fiera di Roma dal 16 al 18 dicembre 2024. \nNell’ambito della manifestazione gli Enti promotori intendono organizzare uno spazio espositivo per ospitare fino ad un massimo di 27 imprese e startup del Lazio\, operative nel settore dell’Aerospazio e dell’Economia dello Spazio. \nLa partecipazione di 22 di queste è sostenuta con il contributo del PR FESR Lazio 2021-2027\, mentre quella delle restanti n. 5 si avvale delle risorse della Camera di Commercio di Roma. \nMaggiori info QUI\nCandidature online entro le ore 11.00 di lunedì 25 novembre
URL:https://www.lazioinnova.it/eventi/e/nse-new-space-economy-european-expoforum-2024/
LOCATION:Fiera di Roma\, Via Portuense\, 1645\,\, Roma\, RM\, 00148
CATEGORIES:Internazionalizzazione,PR FESR Lazio 2021-2027
ATTACH;FMTTYPE=image/png:https://www.lazioinnova.it/eventi/app/uploads/2024/11/NSE3.png
END:VEVENT
BEGIN:VEVENT
DTSTART;TZID=Europe/Rome:20241219T103000
DTEND;TZID=Europe/Rome:20241219T123000
DTSTAMP:20260423T072046
CREATED:20240726T142112Z
LAST-MODIFIED:20241216T132317Z
UID:10001834-1734604200-1734611400@www.lazioinnova.it
SUMMARY:Startup Storming – proponi la tua idea  - ISCRIZIONI CHIUSE
DESCRIPTION:Startup Storming – proponi la tua idea \nGiovedì 19 Dicembre 2024 10.30-12.30 \n  \n“Incontro di approfondimento in cui potrai descrivere il tuo progetto di impresa e/o indicare una specifica esigenza. Nel corso dell’incontro\, inoltre\, ti verranno illustrati i servizi Spazio Attivo Lazio Innova e definito il percorso di accompagnamento più adatto.\nPer prenotarsi occorre registrarsi a questo evento. Solo successivamente ti sarà inviata dagli organizzatori una mail con il link per accedere alla sessione. \nIl numero massimo dei partecipanti 12
URL:https://www.lazioinnova.it/eventi/e/startup-storming-proponi-la-tua-idea-89/
CATEGORIES:Startup Storming
ATTACH;FMTTYPE=image/png:https://www.lazioinnova.it/eventi/app/uploads/2020/04/startup-storming-OK.png
END:VEVENT
END:VCALENDAR