BEGIN:VCALENDAR
VERSION:2.0
PRODID:-//Eventi - LazioInnova - ECPv6.3.6//NONSGML v1.0//EN
CALSCALE:GREGORIAN
METHOD:PUBLISH
X-ORIGINAL-URL:https://www.lazioinnova.it/eventi
X-WR-CALDESC:Eventi per Eventi - LazioInnova
REFRESH-INTERVAL;VALUE=DURATION:PT1H
X-Robots-Tag:noindex
X-PUBLISHED-TTL:PT1H
BEGIN:VTIMEZONE
TZID:Europe/Rome
BEGIN:DAYLIGHT
TZOFFSETFROM:+0100
TZOFFSETTO:+0200
TZNAME:CEST
DTSTART:20250330T010000
END:DAYLIGHT
BEGIN:STANDARD
TZOFFSETFROM:+0200
TZOFFSETTO:+0100
TZNAME:CET
DTSTART:20251026T010000
END:STANDARD
END:VTIMEZONE
BEGIN:VEVENT
DTSTART;TZID=Europe/Rome:20250108T113000
DTEND;TZID=Europe/Rome:20250108T130000
DTSTAMP:20260426T044828
CREATED:20241230T085548Z
LAST-MODIFIED:20250107T121641Z
UID:10001923-1736335800-1736341200@www.lazioinnova.it
SUMMARY:Presentazione Bando Cooperative - Conferenza Stampa
DESCRIPTION:Mercoledì 8 Gennaio 2024 ore 11.30 \nRegione Lazio – Sala Aniene Via Cristoforo Colombo\, 212  \nPresentazione Bando Cooperative \nIntervengono \nRoberta Angelilli  – Vicepresidente – Assessore a Sviluppo economico\, Commercio\, Artigianato\, Industria\, Internazionalizzazione – Regione Lazio \nEnrico Tiero – Presidente della Commissione Sviluppo economico e attività produttive\, start up\, commercio artigianato\, industria\, tutela dei consumatori\, ricerca innovazione del Consiglio Regionale \n  \nSi comunica che questo è un evento di pubblico interesse\, pertanto l’area in cui si svolge sarà soggetta a riprese fotografiche e audio-video.\nPer maggiori info consultare l’Informativa sul Trattamento dei Dati Personali\n 
URL:https://www.lazioinnova.it/eventi/e/presentazione-bando-cooperative/
LOCATION:Sala Aniene – Regione Lazio\, via Cristoforo Colombo\, 212\, Roma\, 00145\, Italia
ATTACH;FMTTYPE=image/jpeg:https://www.lazioinnova.it/eventi/app/uploads/2024/12/RL-Bando-Cooperative-8-gennaio-LIN-1.jpg
END:VEVENT
BEGIN:VEVENT
DTSTART;TZID=Europe/Rome:20250109T150000
DTEND;TZID=Europe/Rome:20250109T170000
DTSTAMP:20260426T044828
CREATED:20250107T124541Z
LAST-MODIFIED:20250528T134856Z
UID:10001925-1736434800-1736442000@www.lazioinnova.it
SUMMARY:Digital Meeting su Opportunità per le imprese del Lazio in Florida
DESCRIPTION:La Regione Lazio\, attraverso Lazio Innova\, organizza il Digital Meeting “Opportunità di business ed internazionalizzazione per le imprese del Lazio in Florida\, che si terrà il 9 gennaio alle ore 15.00 su piattaforma Teams\, aperto a tutte le imprese del Lazio. \nDurante l’evento\, al quale – tra i relatori – prenderà parte l’Ambassador di Embry-Riddle in Italia\, Riccardo Bevilacqua\, saranno presentate le potenzialità di espansione e collaborazione\, con un focus sulle filiere dell’Aerospazio e delle Scienze della Vita. \nSarà un’occasione unica per scoprire nuove opportunità di crescita e per fare networking con esperti del settore. \nMaggiori informazioni QUI \nIscrizioni online
URL:https://www.lazioinnova.it/eventi/e/opportunita-per-le-imprese-del-lazio-in-florida/
CATEGORIES:Community degli Innovatori,Internazionalizzazione
ATTACH;FMTTYPE=image/png:https://www.lazioinnova.it/eventi/app/uploads/2025/01/Digital-Meeting-Florida-1024x576-1.png
END:VEVENT
BEGIN:VEVENT
DTSTART;TZID=Europe/Rome:20250110T113000
DTEND;TZID=Europe/Rome:20250110T130000
DTSTAMP:20260426T044828
CREATED:20241223T134652Z
LAST-MODIFIED:20250729T091815Z
UID:10001922-1736508600-1736514000@www.lazioinnova.it
SUMMARY:Opportunità e bandi per le PMI del Lazio - Civitavecchia - REGISTRAZIONI CHIUSE
DESCRIPTION:Opportunità e bandi per le PMI del Lazio \nVenerdì 10 Gennaio 2024 ore 11.30 \nSala Convegni Autorità di sistema portuale del mar Tirreno centro settentrionale – Molo Vespucci snc \nPresentazioni Bandi: \nVoucher Expo Osaka \nVoucher internazionalizzazione \nVoucher digitalizzazione \n  \nApertura istituzionale \nMarco Piendibene Sindaco di Civitavecchia\nEmanuela Mari Presidente II Commissione – Affari europei e internazionali\, cooperazione tra i popoli del Consiglio regionale del Lazio\nMarietta Tidei Vice presidente XI Commissione – Sviluppo economico e attività produttive\, start-up\, commercio\, artigianato\, industria\, tutela dei consumatori\, ricerca e innovazione del Consiglio regionale del Lazio \n\nIntervengono\nRoberta Angelilli Vicepresidente – Assessore a Sviluppo economico\, Commercio\, Artigianato\, Industria\, Internazionalizzazione – Regione Lazio\nCristiano Dionisi Presidente della Piccola industria di Unindustria\nFabio Pagliari Presidente Unindustria Civitavecchia\nPaolo Sacchetti Presidente Federlazio Civitavecchia\nAlessio Gismondi Presidente CNA Civitavecchia \n  \nSi comunica che questo è un evento di pubblico interesse\, pertanto l’area in cui si svolge sarà soggetta a riprese fotografiche e audio-video.\nPer maggiori info consultare l’Informativa sul Trattamento dei Dati Personali\n  \nSi prega di posteggiare all’esterno dell’Autorità portuale il cui spazio è riservato esclusivamente al personale dipendente \n  \nL’iniziativa è realizzata con il cofinanziamento dell’Unione europea attraverso i fondi del PR FESR Lazio 2021-2027 \n  \n  \n  \n 
URL:https://www.lazioinnova.it/eventi/e/bandi-pmi-lazio-civitavecchia/
LOCATION:Sala Convegni Autorità di Sistema Portuale del Mar Tirreno Centro Settentrionale\, molo Vespucci snc\, Civitavecchia\, 00053\, Italia
ATTACH;FMTTYPE=image/jpeg:https://www.lazioinnova.it/eventi/app/uploads/2024/12/RL.Eventi_10gennaio_Civitavecchia_Social_LINK.jpg
END:VEVENT
BEGIN:VEVENT
DTSTART;TZID=Europe/Rome:20250110T153000
DTEND;TZID=Europe/Rome:20250110T170000
DTSTAMP:20260426T044828
CREATED:20241230T090029Z
LAST-MODIFIED:20250729T091702Z
UID:10001924-1736523000-1736528400@www.lazioinnova.it
SUMMARY:Opportunità e bandi per le PMI del Lazio - Viterbo
DESCRIPTION:Opportunità e bandi per le PMI del Lazio \nVenerdì 10 Gennaio 2024 ore 15.30 \nSpazio Attivo Lazio Innova Viterbo – Via Faul 20 -22 \nPresentazioni Bandi: \nVoucher Expo Osaka \nVoucher internazionalizzazione \nVoucher digitalizzazione \n  \n  \nIntervengono: \nRoberta Angelilli  – Vicepresidente – Assessore  Sviluppo economico\, Commercio\, Artigianato\, Industria\, Internazionalizzazione – Regione Lazio \nDomenico Merlani – Presidente Camera di Commercio di Viterbo e Rieti \n  \nCoordina \nFrancesco Marcolini –  Presidente Lazio Innova \n  \nSi comunica che questo è un evento di pubblico interesse\, pertanto l’area in cui si svolge sarà soggetta a riprese fotografiche e audio-video.\nPer maggiori info consultare l’Informativa sul Trattamento dei Dati Personali\nL’iniziativa è realizzata con il cofinanziamento dell’Unione europea attraverso i fondi del PR FESR Lazio 2021-2027 \n  \n  \n 
URL:https://www.lazioinnova.it/eventi/e/bandi-pmi-lazio-viterbo/
LOCATION:Sala Consorzio industriale Frosinone\, Viale Giuseppe Mazzini\, 30\, Frosinone\, 03100
ATTACH;FMTTYPE=image/jpeg:https://www.lazioinnova.it/eventi/app/uploads/2024/12/RL.Eventi_10gennaio_Viterbo_Social_LINK.jpg
END:VEVENT
BEGIN:VEVENT
DTSTART;TZID=Europe/Rome:20250114T113000
DTEND;TZID=Europe/Rome:20250114T130000
DTSTAMP:20260426T044828
CREATED:20250109T161204Z
LAST-MODIFIED:20250729T091638Z
UID:10001936-1736854200-1736859600@www.lazioinnova.it
SUMMARY:Opportunità e bandi per le PMI del Lazio - Latina - REGISTRAZIONI CHIUSE
DESCRIPTION:Opportunità e bandi per le PMI del Lazio \nMartedì 14 Gennaio 2024 ore 11.30 \nConsorzio Industriale del Lazio sede di Latina  \nVia Carrara 12/A \nPresentazioni Bandi: \nVoucher Expo Osaka \nVoucher digitalizzazione \n  \nSi comunica che questo è un evento di pubblico interesse\, pertanto l’area in cui si svolge sarà soggetta a riprese fotografiche e audio-video.\nPer maggiori info consultare l’Informativa sul Trattamento dei Dati Personali\n  \nL’iniziativa è realizzata con il cofinanziamento dell’Unione europea attraverso i fondi del PR FESR Lazio 2021-2027 \n  \n  \n  \n  \n  \n  \n  \n 
URL:https://www.lazioinnova.it/eventi/e/bandi-pmi-latina/
LOCATION:Consorzio Industriale del Lazio sede di Latina\, Via Carrara 12/A\, Latina\, 04100
ATTACH;FMTTYPE=image/jpeg:https://www.lazioinnova.it/eventi/app/uploads/2025/01/RL_STD_Evento_14gennaio_Latina_5.jpg
END:VEVENT
BEGIN:VEVENT
DTSTART;TZID=Europe/Rome:20250114T160000
DTEND;TZID=Europe/Rome:20250114T173000
DTSTAMP:20260426T044828
CREATED:20250109T160512Z
LAST-MODIFIED:20250729T091622Z
UID:10001935-1736870400-1736875800@www.lazioinnova.it
SUMMARY:Opportunità e bandi per le PMI del Lazio - Frosinone REGISTRAZIONI CHIUSE
DESCRIPTION:Opportunità e bandi per le PMI del Lazio \nMartedì 14 Gennaio 2024 ore 16.00 \nConsorzio Industriale del Lazio sede di Frosinone  \nViale Giuseppe Mazzini 30 – Frosinone \n  \nPresentazioni Bandi \nVoucher Expo Osaka \nVoucher digitalizzazione \nBando cooperative \n  \nSi comunica che questo è un evento di pubblico interesse\, pertanto l’area in cui si svolge sarà soggetta a riprese fotografiche e audio-video.\nPer maggiori info consultare l’Informativa sul Trattamento dei Dati Personali\nL’iniziativa è realizzata con il cofinanziamento dell’Unione europea attraverso i fondi del PR FESR Lazio 2021-2027 \n  \n 
URL:https://www.lazioinnova.it/eventi/e/bandi-pmi-frosinone/
LOCATION:Sala Consorzio industriale Frosinone\, Viale Giuseppe Mazzini\, 30\, Frosinone\, 03100
ATTACH;FMTTYPE=image/jpeg:https://www.lazioinnova.it/eventi/app/uploads/2025/01/RL_STD_Evento_14gennaio_Frosinone_5.jpg
END:VEVENT
BEGIN:VEVENT
DTSTART;TZID=Europe/Rome:20250115T103000
DTEND;TZID=Europe/Rome:20250115T113000
DTSTAMP:20260426T044828
CREATED:20250113T130955Z
LAST-MODIFIED:20250729T091603Z
UID:10001938-1736937000-1736940600@www.lazioinnova.it
SUMMARY:Opportunità e bandi per le PMI del Lazio - Bando Valore Artigiano REGISTRAZIONI CHIUSE
DESCRIPTION:Opportunità e bandi per le PMI del Lazio  \nValore Artigiano \nIncentivi a favore delle Imprese Artigiane \nMercoledì 15 gennaio ore 10.30  \nSala Aniene\, Regione Lazio – Via Cristoforo Colombo 212 (Roma) \nIntervengono \nRoberta Angelilli Vicepresidente e Assessore Sviluppo economico\, Commercio\, Artigianato\, Industria\, Internazionalizzazione – Regione Lazio \nAntonio Fainella Segretario Regionale Confartigianato Lazio \nErino Colombi Presidente CNA Lazio \nLorenzo Tagliavanti Presidente Camera di Commercio di Roma \nDanilo Barduzzi Direttore Centro Studi di Casartigiani \nFrancesco Marcolini Presidente Lazio Innova \nSi comunica che questo è un evento di pubblico interesse\, pertanto l’area in cui si svolge sarà soggetta a riprese fotografiche e audio-video.\nPer maggiori info consultare l’Informativa sul Trattamento dei Dati Personali\nL’iniziativa è realizzata con il cofinanziamento dell’Unione europea attraverso i fondi del PR FESR Lazio 2021-2027
URL:https://www.lazioinnova.it/eventi/e/valore-artigiano/
LOCATION:Sala Aniene – Regione Lazio\, via Cristoforo Colombo\, 212\, Roma\, 00145\, Italia
CATEGORIES:Evento
ATTACH;FMTTYPE=image/jpeg:https://www.lazioinnova.it/eventi/app/uploads/2025/01/RL_Bando_Cooperative_15gennaio_Social_FB.jpg
END:VEVENT
BEGIN:VEVENT
DTSTART;TZID=Europe/Rome:20250116T103000
DTEND;TZID=Europe/Rome:20250116T123000
DTSTAMP:20260426T044828
CREATED:20240726T142659Z
LAST-MODIFIED:20250115T082902Z
UID:10001835-1737023400-1737030600@www.lazioinnova.it
SUMMARY:Startup storming - proponi la tua idea - ISCRIZIONI CHIUSE
DESCRIPTION:Startup storming – proponi la tua idea \nGiovedì 16 Gennaio  2025 10.30-12.30 \n  \n“Incontro di approfondimento in cui potrai descrivere il tuo progetto di impresa e/o indicare una specifica esigenza. Nel corso dell’incontro\, inoltre\, ti verranno illustrati i servizi Spazio Attivo Lazio Innova e definito il percorso di accompagnamento più adatto.\nPer prenotarsi occorre registrarsi a questo evento. Solo successivamente ti sarà inviata dagli organizzatori una mail con il link per accedere alla sessione. \nIl numero massimo dei partecipanti 12
URL:https://www.lazioinnova.it/eventi/e/startup-storming-proponi-la-tua-idea-90/
CATEGORIES:Startup Storming
ATTACH;FMTTYPE=image/png:https://www.lazioinnova.it/eventi/app/uploads/2021/06/startup-storming-OK.png
END:VEVENT
BEGIN:VEVENT
DTSTART;TZID=Europe/Rome:20250117T113000
DTEND;TZID=Europe/Rome:20250117T123000
DTSTAMP:20260426T044828
CREATED:20250114T142048Z
LAST-MODIFIED:20250729T091528Z
UID:10001937-1737113400-1737117000@www.lazioinnova.it
SUMMARY:Opportunità e bandi per le PMI del Lazio - Rieti - ISCRIZIONI CHIUSE
DESCRIPTION:Opportunità e bandi per le PMI del Lazio \nVenerdì 17 gennaio 2024 ore 11.30 \nSala consiliare del Comune di Rieti \nPiazza Vittorio Emanuele II\, 1 \n  \nPresentazioni Bandi \nVoucher Expo Osaka \nVoucher digitalizzazione \nBando cooperative \nPROGRAMMA \nRoberta Angelilli\, Vicepresidente e Assessore a Sviluppo economico\, Commercio\, Artigianato\, Industria\, Internazionalizzazione –  Regione Lazio \nManuela Rinaldi\, Assessore Lavori pubblici\, Politiche di ricostruzione\, Viabilità\, Infrastrutture – Regione Lazio \nDaniele Sinibaldi\, Sindaco di Rieti \nSi comunica che questo è un evento di pubblico interesse\, pertanto l’area in cui si svolge sarà soggetta a riprese fotografiche e audio-video.\nPer maggiori info consultare l’Informativa sul Trattamento dei Dati Personali\nL’iniziativa è realizzata con il cofinanziamento dell’Unione europea attraverso i fondi del PR FESR Lazio 2021-2027 \n  \n  \n 
URL:https://www.lazioinnova.it/eventi/e/opportunita-e-bandi-rieti/
LOCATION:Comune di Rieti\, Piazza Emanuele II 1\, Rieti\, 02100\, Italy
CATEGORIES:Evento
ATTACH;FMTTYPE=image/jpeg:https://www.lazioinnova.it/eventi/app/uploads/2025/01/RL_17gennaio_Social_Rieti_FB.jpg
END:VEVENT
BEGIN:VEVENT
DTSTART;TZID=Europe/Rome:20250129T113000
DTEND;TZID=Europe/Rome:20250129T130000
DTSTAMP:20260426T044828
CREATED:20250121T142846Z
LAST-MODIFIED:20250121T143507Z
UID:10001940-1738150200-1738155600@www.lazioinnova.it
SUMMARY:Presentazione percorso Digital Contamination Lab
DESCRIPTION:On line – Teams \nPresentazione della nuova edizione del laboratorio di Lazio Innova dedicato a studenti universitari\, laureati e ricercatori\, per lo sviluppo di progetti imprenditoriali innovativi nei settori: Ambiente e Energia\, Digitale\, Cultura e Turismo\, Salute e Benessere Sociale. Candidature entro il 3 marzo 2025. \nLa partecipazione è libera e aperta a tutti gli interessati.\nBasta cliccare sul link Partecipa alla riunione Mercoledì 29 gennaio alle ore 11.30. \n  \n 
URL:https://www.lazioinnova.it/eventi/e/presentazione-percorso-digital-contamination-lab/
CATEGORIES:Digital Meeting,PR FESR Lazio 2021-2027,Spazio Attivo
ATTACH;FMTTYPE=image/jpeg:https://www.lazioinnova.it/eventi/app/uploads/2025/01/RL_DCLab_social_FB.jpg
END:VEVENT
BEGIN:VEVENT
DTSTART;TZID=Europe/Rome:20250130T103000
DTEND;TZID=Europe/Rome:20250130T123000
DTSTAMP:20260426T044828
CREATED:20250107T150457Z
LAST-MODIFIED:20250213T102241Z
UID:10001926-1738233000-1738240200@www.lazioinnova.it
SUMMARY:Startup storming - proponi la tua idea - iscrizioni chiuse
DESCRIPTION:Startup storming – proponi la tua idea \nGiovedì 30 Gennaio  2025 10.30-12.30 \n  \n“Incontro di approfondimento in cui potrai descrivere il tuo progetto di impresa e/o indicare una specifica esigenza. Nel corso dell’incontro\, inoltre\, ti verranno illustrati i servizi Spazio Attivo Lazio Innova e definito il percorso di accompagnamento più adatto.\nPer prenotarsi occorre registrarsi a questo evento. Solo successivamente ti sarà inviata dagli organizzatori una mail con il link per accedere alla sessione. \nIl numero massimo dei partecipanti 12
URL:https://www.lazioinnova.it/eventi/e/startup-storming-proponi-la-tua-idea-91/
CATEGORIES:Startup Storming
ATTACH;FMTTYPE=image/png:https://www.lazioinnova.it/eventi/app/uploads/2021/06/startup-storming-OK.png
END:VEVENT
END:VCALENDAR