BEGIN:VCALENDAR
VERSION:2.0
PRODID:-//Eventi - LazioInnova - ECPv6.3.6//NONSGML v1.0//EN
CALSCALE:GREGORIAN
METHOD:PUBLISH
X-WR-CALNAME:Eventi - LazioInnova
X-ORIGINAL-URL:https://www.lazioinnova.it/eventi
X-WR-CALDESC:Eventi per Eventi - LazioInnova
REFRESH-INTERVAL;VALUE=DURATION:PT1H
X-Robots-Tag:noindex
X-PUBLISHED-TTL:PT1H
BEGIN:VTIMEZONE
TZID:Europe/Rome
BEGIN:DAYLIGHT
TZOFFSETFROM:+0100
TZOFFSETTO:+0200
TZNAME:CEST
DTSTART:20250330T010000
END:DAYLIGHT
BEGIN:STANDARD
TZOFFSETFROM:+0200
TZOFFSETTO:+0100
TZNAME:CET
DTSTART:20251026T010000
END:STANDARD
END:VTIMEZONE
BEGIN:VEVENT
DTSTART;TZID=Europe/Rome:20251202T170000
DTEND;TZID=Europe/Rome:20251202T183000
DTSTAMP:20260423T131922
CREATED:20251127T162933Z
LAST-MODIFIED:20251128T095947Z
UID:10002108-1764694800-1764700200@www.lazioinnova.it
SUMMARY:Presentazione del bando Giovani professionisti
DESCRIPTION:Martedì 2 dicembre ore 17.00 \nConvitto Nazionale Amedeo di Savoia Duca di Aosta – piazza Giuseppe Garibaldi 1 – Tivoli \nIl Vicepresidente della Regione Roberta Angelilli e la Consulta dei Giovani Imprenditori e Professionisti del Lazio invita alla Presentazione del Bando Giovani Attività Professionali \nSi comunica che questo è un evento di pubblico interesse\, pertanto l’area in cui si svolge sarà soggetta a riprese fotografiche e audio-video. \nPer maggiori info\, consultare l’Informativa sul Trattamento dei Dati Personali \nScarica il Save the Date \n 
URL:https://www.lazioinnova.it/eventi/e/presentazione-bando-giovani-tivoli/
LOCATION:Convitto Nazionale Amedeo di Savoia Duca di Aosta\, piazza Giuseppe Garibaldi 1\, Tivoli\, 00019
ATTACH;FMTTYPE=image/png:https://www.lazioinnova.it/eventi/app/uploads/2025/11/Invito_bando_professionisti_2dic.png
END:VEVENT
END:VCALENDAR